Workbook
Name Ceramics: 'Combined Sales'!$B$5:$E$5
Name Fiber: 'Combined Sales'!$B$6:$E$6
Name Glass: 'Combined Sales'!$B$7:$E$7
Name Q1_Sales: 'Combined Sales'!$B$5:$B$8
Name Q2_Sales: 'Combined Sales'!$C$5:$C$8
Name Q3_Sales: 'Combined Sales'!$D$5:$D$8
Name Q4_Sales: 'Combined Sales'!$E$5:$E$8
Name Stone: 'Combined Sales'!$B$8:$E$8
Name Total_Sales_2021: 'Combined Sales'!$F$5:$F$8
Name Totals_2020: 'Combined Sales'!$G$5:$G$8

Sheet Documentation
B1: New Perspectives Excel 2019 | Module 5: SAM Project 1b
B3: Min Jee Woo Artwork
B4: GENERATING REPORTS FROM MULTIPLE WORKBOOKS
A6: Author: | B6: Bigyan Khanal
A8: Note: Do not edit this sheet. If your name does not appear in cell B6, please download a new copy of the file from the SAM website.

Sheet Art Fairs
A1: Art Fair Contacts
A2: Location | B2: Director | C2: Venue | D2: Email
A3: Chicago, IL | B3: Natalia Reyes | C3: Illinois Center Pavilion | D3: natalia.reyes@chicart.example.org
A4: St. Louis, MO | B4: Owen McKay | C4: Gateway Park | D4: info@gateway.example.com
A5: Minneapolis, MN | B5: Eva Martinez | C5: Twin Cities Promenade | D5: info@northernarts.example.org
A6: Madison, WI | B6: Will Trainor | C6: Capitol Square | D6: wtrainor@arts.example.org
B9: Online art fair calendar
B10: Art fair descriptions

Sheet Chicago
A1: Art Fairs
A2: Chicago 2021
B4: Q1 | C4: Q2 | D4: Q3 | E4: Q4 | F4: Total
A5: Ceramics | B5: 612.5 | C5: 724.35 | D5: 1115.8 | E5: 845 | F5: =SUM(B5:E5) -> 3297.65
A6: Fiber | B6: 586.7 | C6: 803.45 | D6: 1222.75 | E6: 934.5 | F6: =SUM(B6:E6) -> 3547.4
A7: Glass | B7: 657.85 | C7: 698.75 | D7: 1205.15 | E7: 1435.25 | F7: =SUM(B7:E7) -> 3997
A8: Stone | B8: 605.65 | C8: 656.8 | D8: 760.75 | E8: 1093.45 | F8: =SUM(B8:E8) -> 3116.65
A9: Total sales | B9: =SUM(B5:B8) -> 2462.7 | C9: =SUM(C5:C8) -> 2883.35 | D9: =SUM(D5:D8) -> 4304.45 | E9: =SUM(E5:E8) -> 4308.2 | F9: =SUM(B9:E9) -> 13958.7

Sheet St. Louis
A1: Art Fairs
A2: St. Louis 2021
B4: Q1 | C4: Q2 | D4: Q3 | E4: Q4 | F4: Total
A5: Ceramics | B5: 644.5 | C5: 733.3 | D5: 1105.5 | E5: 825.25 | F5: =SUM(B5:E5) -> 3308.55
A6: Fiber | B6: 516.7 | C6: 801.15 | D6: 1242.15 | E6: 913.15 | F6: =SUM(B6:E6) -> 3473.15
A7: Glass | B7: 607.95 | C7: 628.95 | D7: 1185.75 | E7: 1385.2 | F7: =SUM(B7:E7) -> 3807.85
A8: Stone | B8: 710.65 | C8: 696.95 | D8: 785.75 | E8: 1143.35 | F8: =SUM(B8:E8) -> 3336.7
A9: Total sales | B9: =SUM(B5:B8) -> 2479.8 | C9: =SUM(C5:C8) -> 2860.35 | D9: =SUM(D5:D8) -> 4319.15 | E9: =SUM(E5:E8) -> 4266.95 | F9: =SUM(B9:E9) -> 13926.25

Sheet Minneapolis
A1: Art Fairs
A2: Minneapolis 2021
B4: Q1 | C4: Q2 | D4: Q3 | E4: Q4 | F4: Total
A5: Ceramics | B5: 544.5 | C5: 740.3 | D5: 1135.55 | E5: 885.5 | F5: =SUM(B5:E5) -> 3305.85
A6: Fiber | B6: 516.4 | C6: 781.15 | D6: 1278.15 | E6: 933.75 | F6: =SUM(B6:E6) -> 3509.45
A7: Glass | B7: 707.05 | C7: 658.15 | D7: 1155.5 | E7: 1385.2 | F7: =SUM(B7:E7) -> 3905.9
A8: Stone | B8: 725.65 | C8: 762.95 | D8: 725.25 | E8: 943.65 | F8: =SUM(B8:E8) -> 3157.5
A9: Total sales | B9: =SUM(B5:B8) -> 2493.6 | C9: =SUM(C5:C8) -> 2942.55 | D9: =SUM(D5:D8) -> 4294.45 | E9: =SUM(E5:E8) -> 4148.1 | F9: =SUM(B9:E9) -> 13878.7

Sheet Madison
A1: Art Fairs
A2: Minneapolis 2021
B4: Q1 | C4: Q2 | D4: Q3 | E4: Q4 | F4: Total
A5: Ceramics | F5: =SUM(B5:E5) -> 0
A6: Fiber | F6: =SUM(B6:E6) -> 0
A7: Glass | F7: =SUM(B7:E7) -> 0
A8: Stone | F8: =SUM(B8:E8) -> 0
A9: Total sales | B9: =SUM(B5:B8) -> 0 | C9: =SUM(C5:C8) -> 0 | D9: =SUM(D5:D8) -> 0 | E9: =SUM(E5:E8) -> 0 | F9: =SUM(B9:E9) -> 0

Sheet Combined Sales
A1: Art Fairs
A2: Combined Sales 2021
B4: Q1 | C4: Q2 | D4: Q3 | E4: Q4 | F4: Total | G4: 2020 Total
A5: =Madison!A5 -> Ceramics | B5: =SUM(Chicago:Madison!B5) -> 1801.5 | C5: =SUM(Chicago:Madison!C5) -> 2197.95 | D5: =SUM(Chicago:Madison!D5) -> 3356.85 | E5: =SUM(Chicago:Madison!E5) -> 2555.75 | F5: =SUM(B5:E5) -> 9912.05 | G5: ='[1]Combined Sales'!$F$5 -> 12637.2
A6: =Madison!A6 -> Fiber | B6: =SUM(Chicago:Madison!B6) -> 1619.8 | C6: =SUM(Chicago:Madison!C6) -> 2385.75 | D6: =SUM(Chicago:Madison!D6) -> 3743.05 | E6: =SUM(Chicago:Madison!E6) -> 2781.4 | F6: =SUM(B6:E6) -> 10530 | G6: ='[1]Combined Sales'!$F$6 -> 13636.2
A7: =Madison!A7 -> Glass | B7: =SUM(Chicago:Madison!B7) -> 1972.85 | C7: =SUM(Chicago:Madison!C7) -> 1985.85 | D7: =SUM(Chicago:Madison!D7) -> 3546.4 | E7: =SUM(Chicago:Madison!E7) -> 4205.65 | F7: =SUM(B7:E7) -> 11710.75 | G7: ='[1]Combined Sales'!$F$7 -> 15434.6
A8: =Madison!A8 -> Stone | B8: =SUM(Chicago:Madison!B8) -> 2041.95 | C8: =SUM(Chicago:Madison!C8) -> 2116.7 | D8: =SUM(Chicago:Madison!D8) -> 2271.75 | E8: =SUM(Chicago:Madison!E8) -> 3180.45 | F8: =SUM(B8:E8) -> 9610.85 | G8: ='[1]Combined Sales'!$F$8 -> 11913.2
A9: Total sales | B9: =SUM(B5:B8) -> 7436.1 | C9: =SUM(C5:C8) -> 8686.25 | D9: =SUM(D5:D8) -> 12918.05 | E9: =SUM(E5:E8) -> 12723.25 | F9: =SUM(F5:F8) -> 41763.65 | G9: =SUM(Totals_2020) -> 53621.2
