Workbook

Sheet Data
A1: Age | B1: Gender | C1: Real Estate Purchases? | D1: Value of Investments ($) | E1: Number of Transactions | F1: Broadband Access? | G1: Household Income ($) | H1: Have Children?
A2: 38 | B2: Female | C2: No | D2: 12200 | E2: 4 | F2: Yes | G2: 75200 | H2: Yes
A3: 30 | B3: Male | C3: No | D3: 12400 | E3: 4 | F3: Yes | G3: 70300 | H3: Yes
A4: 41 | B4: Female | C4: No | D4: 26800 | E4: 5 | F4: Yes | G4: 48200 | H4: No
A5: 28 | B5: Female | C5: Yes | D5: 19600 | E5: 6 | F5: No | G5: 95300 | H5: No
A6: 31 | B6: Female | C6: Yes | D6: 15100 | E6: 5 | F6: No | G6: 73300 | H6: Yes
A7: 32 | B7: Male | C7: No | D7: 39700 | E7: 3 | F7: Yes | G7: 123400 | H7: Yes
A8: 32 | B8: Male | C8: Yes | D8: 21900 | E8: 2 | F8: Yes | G8: 73900 | H8: Yes
A9: 26 | B9: Female | C9: Yes | D9: 41900 | E9: 2 | F9: Yes | G9: 54300 | H9: Yes
A10: 26 | B10: Male | C10: Yes | D10: 16100 | E10: 4 | F10: Yes | G10: 93100 | H10: No
A11: 34 | B11: Female | C11: Yes | D11: 18400 | E11: 11 | F11: Yes | G11: 60100 | H11: No
A12: 33 | B12: Female | C12: No | D12: 33800 | E12: 3 | F12: No | G12: 48600 | H12: No
A13: 35 | B13: Female | C13: Yes | D13: 15500 | E13: 6 | F13: No | G13: 43500 | H13: No
... A411: 28 | B411: Female | C411: Yes | D411: 30500 | E411: 11 | F411: Yes | G411: 36800 | H411: Yes

Sheet Descriptive
B1: Age | C1: Value of Investments ($) | D1: Number of Transactions | E1: Household Income ($) | I1: N | J1: %
H2: Gender:
A3: Mean | B3: 30.112195 | C3: 28538.293 | D3: 5.9731707 | E3: 74459.512 | H3: Female | I3: =COUNTIF(Data!B$2:B$411,"Female") -> 181 | J3: =I3/410 -> 0.44146341
A4: Standard Error | B4: 0.19873233 | C4: 780.84127 | D4: 0.15314122 | E4: 1719.5489 | H4: Male | I4: =COUNTIF(Data!B$2:B$411,"Male") -> 229 | J4: =I4/410 -> 0.55853659
A5: Median | B5: 30 | C5: 24800 | D5: 6 | E5: 66050 | H5: Real estate purchases:
A6: Mode | B6: 32 | C6: 0 | D6: 5 | E6: 60300 | H6: Yes | I6: =COUNTIF(Data!C$2:C$411,"Yes") -> 181 | J6: =I6/410 -> 0.44146341
A7: Standard Deviation | B7: 4.0240229 | C7: 15810.831 | D7: 3.1008733 | E7: 34818.211 | H7: No | I7: =COUNTIF(Data!C$2:C$411,"No") -> 229 | J7: =I7/410 -> 0.55853659
A8: Sample Variance | B8: 16.19276 | C8: 2.4998237e+08 | D8: 9.6154153 | E8: 1.2123078e+09 | H8: Broadband access:
A9: Kurtosis | B9: 0.02271196 | C9: 5.6456594 | D9: 2.4604242 | E9: 7.4956338 | H9: Yes | I9: =COUNTIF(Data!F$2:F$411,"Yes") -> 256 | J9: =I9/410 -> 0.62439024
A10: Skewness | B10: -0.025554982 | C10: 1.7100113 | D10: 1.2142677 | E10: 2.0079005 | H10: No | I10: =COUNTIF(Data!F$2:F$411,"No") -> 154 | J10: =I10/410 -> 0.37560976
A11: Range | B11: 23 | C11: 133400 | D11: 21 | E11: 306300 | H11: Have children?
A12: Minimum | B12: 19 | C12: 0 | D12: 0 | E12: 16200 | H12: Yes | I12: =COUNTIF(Data!H$2:H$411,"Yes") -> 219 | J12: =I12/410 -> 0.53414634
A13: Maximum | B13: 42 | C13: 133400 | D13: 21 | E13: 322500 | H13: No | I13: =COUNTIF(Data!H$2:H$411,"No") -> 191 | J13: =I13/410 -> 0.46585366
A14: Sum | B14: 12346 | C14: 11700700 | D14: 2449 | E14: 30528400
A15: Count | B15: 410 | C15: 410 | D15: 410 | E15: 410

Sheet Mean CIs
A1: CONFIDENCE INTERVAL FOR POPULATION MEAN
B2: Age | C2: Household Income
A3: Mean | B3: =AVERAGE(Data!A$2:A$411) -> 30.112195 | C3: =AVERAGE(Data!G$2:G$411) -> 74459.512
A4: Standard deviation | B4: =_xlfn.STDEV.S(Data!A$2:A$411) -> 4.0240229 | C4: =_xlfn.STDEV.S(Data!G$2:G$411) -> 34818.211
A5: N | B5: =COUNT(Data!A$2:A$411) -> 410 | C5: =COUNT(Data!G$2:G$411) -> 410
A6: Standard error | B6: =B4/SQRT(B5) -> 0.19873233 | C6: =C4/SQRT(C5) -> 1719.5489
A7: t | B7: =_xlfn.T.INV.2T(0.05,B5-1) -> 1.9657811 | C7: =_xlfn.T.INV.2T(0.05,C5-1) -> 1.9657811
A8: Margin of error | B8: =B6*B7 -> 0.39066425 | C8: =C6*C7 -> 3380.2566
A10: 95% CI, lower limit | B10: =B3-B8 -> 29.721531 | C10: =C3-C8 -> 71079.256
A11: 95% CI, upper limit | B11: =B3+B8 -> 30.502859 | C11: =C3+C8 -> 77839.769

Sheet Proportion CIs
A1: CONFIDENCE INTERVAL FOR POPULATION PROPORTION
B2: Broadband access | C2: Children | D2: 1or more transactions
A3: Yes | B3: =Descriptive!I9 -> 256 | C3: =Descriptive!I12 -> 219 | D3: =COUNTIF(Data!E2:E411,">1") -> 402
A4: N | B4: 410 | C4: 410 | D4: 410
A5: Proportion (p) | B5: =B3/B4 -> 0.62439024 | C5: =C3/C4 -> 0.53414634 | D5: =D3/D4 -> 0.9804878
A6: q | B6: =1-B5 -> 0.37560976 | C6: =1-C5 -> 0.46585366 | D6: =1-D5 -> 0.019512195
A7: Standard error | B7: =SQRT(B5*B6/B4) -> 0.023916882 | C7: =SQRT(C5*C6/C4) -> 0.024635589 | D7: =SQRT(D5*D6/D4) -> 0.0068309677
A8: Z | B8: =-_xlfn.NORM.INV(0.05/2,0,1) -> 1.959964 | C8: =-_xlfn.NORM.INV(0.05/2,0,1) -> 1.959964 | D8: =-_xlfn.NORM.INV(0.05/2,0,1) -> 1.959964
A9: Margin of error | B9: =B8*B7 -> 0.046876227 | C9: =C8*C7 -> 0.048284868 | D9: =D8*D7 -> 0.013388451
A11: 95% CI, lower limit | B11: =B5-B9 -> 0.57751402 | C11: =C5-C9 -> 0.48586147 | D11: =D5-D9 -> 0.96709935
A12: 95% CI, upper limit | B12: =B5+B9 -> 0.67126647 | C12: =C5+C9 -> 0.58243121 | D12: =D5+D9 -> 0.99387626

Sheet Analysis
