Workbook

Sheet Current Cost
B3: Plant Cost and Capacity
B4: Breads | E4: Pies
A5: Plant | B5: Annual Fixed Cost | C5: Vaiable Cost/Unit | D5: Daily Capacity | E5: Annual Fixed Cost | F5: Variable Cost/Unit | G5: Daily Capacity
A6: Mentone | B6: 200000 | C6: 0.3 | D6: 6000 | E6: 300000 | F6: 0.5 | G6: 4000
A7: Prahran | B7: 220000 | C7: 0.25 | D7: 6000 | E7: 300000 | F7: 0.45 | G7: 4500
A8: Northcote | B8: 240000 | C8: 0.25 | D8: 7000 | E8: 320000 | F8: 0.45 | G8: 5200
A9: Laverton North | B9: 240000 | C9: 0.25 | D9: 7500 | E9: 320000 | F9: 0.45 | G9: 5500
B12: Daily Demand by Product
A13: Shop | B13: Glen Waverley | C13: Doncaster | D13: Melbourne CBD | E13: Thomastown | F13: St.Albans | G13: Hoppers Crossing
A14: Breads | B14: 700 | C14: 1000 | D14: 1500 | E14: 500 | F14: 800 | G14: 1000
A15: Pies | B15: 400 | C15: 700 | D15: 1000 | E15: 300 | F15: 450 | G15: 750
A16: Total | B16: =SUM(B14:B15) -> 1100 | C16: =SUM(C14:C15) -> 1700 | D16: =SUM(D14:D15) -> 2500 | E16: =SUM(E14:E15) -> 800 | F16: =SUM(F14:F15) -> 1250 | G16: =SUM(G14:G15) -> 1750
A17: Annual Growth | B17: 0.15 | C17: 0.12 | D17: 0.2 | E17: 0.18 | F17: 0.15 | G17: 0.12
B20: Transportation Cost per Unit
A21: Shop Plant | B21: Glen Waverley | C21: Doncaster | D21: Melbourne CBD | E21: Thomastown | F21: St.Albans | G21: Hoppers Crossing
A22: Mentone | B22: 0.1 | C22: 0.12 | D22: 0.11 | E22: 0.2 | F22: 0.22 | G22: 0.24
A23: Prahran | B23: 0.1 | C23: 0.12 | D23: 0.04 | E23: 0.12 | F23: 0.15 | G23: 0.17
A24: Northcote | B24: 0.18 | C24: 0.16 | D24: 0.05 | E24: 0.04 | F24: 0.1 | G24: 0.11 | I24: Legend
A25: Laverton North | B25: 0.22 | C25: 0.24 | D25: 0.1 | E25: 0.13 | F25: 0.04 | G25: 0.05 | J25: Input Parameter
B28: Daily Production and Distribution of Breads
A29: Shop Plant | B29: Glen Waverley | C29: Doncaster | D29: Melbourne CBD | E29: Thomastown | F29: St.Albans | G29: Hoppers Crossing | H29: Line Open (1) or Close (0) | I29: Total Daily Production | J29: Excess Capacity
A30: Mentone | B30: 700 | C30: 1000 | D30: 1500 | E30: 500 | F30: 800 | G30: 1000 | H30: 1 | I30: =SUM(B30:G30) -> 5500 | J30: =6000-I30 -> 500
A31: Prahran | B31: 0 | C31: 0 | D31: 0 | E31: 0 | F31: 0 | G31: 0 | H31: 0 | J31: 0
A32: Northcote | B32: 0 | C32: 0 | D32: 0 | E32: 0 | F32: 0 | G32: 0 | H32: 0 | J32: 0
A33: Laverton North | B33: 0 | C33: 0 | D33: 0 | E33: 0 | F33: 0 | G33: 0 | H33: 0 | J33: 0
A34: Total Daily Supply
A35: Unmet Demand
B38: Daily Production and Distribution of Pies
A39: Shop Plant | B39: Glen Waverley | C39: Doncaster | D39: Melbourne CBD | E39: Thomastown | F39: St.Albans | G39: Hoppers Crossing | H39: Line Open (1) or Close (0) | I39: Total Daily Production | J39: Excess Capacity
A40: Mentone | B40: 400 | C40: 700 | D40: 1000 | E40: 300 | F40: 450 | G40: 750 | H40: 1 | I40: =SUM(B40:G40) -> 3600 | J40: =4000-I40 -> 400
A41: Prahran | B41: 0 | C41: 0 | D41: 0 | E41: 0 | F41: 0 | G41: 0 | H41: 0 | J41: 0
A42: Northcote | B42: 0 | C42: 0 | D42: 0 | E42: 0 | F42: 0 | G42: 0 | H42: 0 | J42: 0
A43: Laverton North | B43: 0 | C43: 0 | D43: 0 | E43: 0 | F43: 0 | G43: 0 | H43: 0 | J43: 0
A44: Total Daily Supply
A45: Unmet Demand
A48: Annual Cost
A49: Fixed Cost | B49: =B6+E6 -> 500000 | D49: Legend
A50: Variable Cost | B50: =(SUM(B14:G14)*C6+SUM(B15:G15)*F6)*360 -> 1242000 | E50: Decision Variables
A51: Transport Cost | B51: =SUMPRODUCT(B22:G22,B16:G16)*360 -> 519840 | E51: Constraint
A52: Total Annual Cost | B52: =SUM(B49:B51) -> 2261840 | E52: Cost Item

Sheet Scenario A (Y1)
B3: Plant Cost and Capacity
B4: Breads | E4: Pies
A5: Plant | B5: Annual Fixed Cost | C5: Vaiable Cost/Unit | D5: Daily Capacity | E5: Annual Fixed Cost | F5: Variable Cost/Unit | G5: Daily Capacity
A6: Mentone | B6: 200000 | C6: 0.3 | D6: 6000 | E6: 300000 | F6: 0.5 | G6: 4000
A7: Prahran | B7: 220000 | C7: 0.25 | D7: 6000 | E7: 300000 | F7: 0.45 | G7: 4500
A8: Northcote | B8: 240000 | C8: 0.25 | D8: 7000 | E8: 320000 | F8: 0.45 | G8: 5200
A9: Laverton North | B9: 240000 | C9: 0.25 | D9: 7500 | E9: 320000 | F9: 0.45 | G9: 5500
B12: Daily Demand by Product
A13: Shop | B13: Glen Waverley | C13: Doncaster | D13: Melbourne CBD | E13: Thomastown | F13: St.Albans | G13: Hoppers Crossing
A14: Breads | B14: =700*1.15 -> 805 | C14: =1000*1.12 -> 1120 | D14: =1500*1.2 -> 1800 | E14: =500*1.18 -> 590 | F14: =800*1.15 -> 920 | G14: =1000*1.12 -> 1120
A15: Pies | B15: =400*1.15 -> 460 | C15: =700*1.12 -> 784 | D15: =1000*1.2 -> 1200 | E15: =300*1.18 -> 354 | F15: =450*1.15 -> 517.5 | G15: =750*1.12 -> 840
A16: Total | B16: =SUM(B14:B15) -> 1265 | C16: =SUM(C14:C15) -> 1904 | D16: =SUM(D14:D15) -> 3000 | E16: =SUM(E14:E15) -> 944 | F16: =SUM(F14:F15) -> 1437.5 | G16: =SUM(G14:G15) -> 1960
B19: Transportation Cost per Unit
A20: Shop Plant | B20: Glen Waverley | C20: Doncaster | D20: Melbourne CBD | E20: Thomastown | F20: St.Albans | G20: Hoppers Crossing
A21: Mentone | B21: =0.1*1.15 -> 0.115 | C21: =0.12*1.15 -> 0.138 | D21: =0.11*1.15 -> 0.1265 | E21: =0.2*1.15 -> 0.23 | F21: =0.22*1.15 -> 0.253 | G21: =0.24*1.15 -> 0.276
A22: Prahran | B22: =0.1*1.15 -> 0.115 | C22: =0.12*1.15 -> 0.138 | D22: =0.04*1.15 -> 0.046 | E22: =0.12*1.15 -> 0.138 | F22: =0.15*1.15 -> 0.1725 | G22: =0.17*1.15 -> 0.1955
A23: Northcote | B23: =0.18*1.15 -> 0.207 | C23: =0.16*1.15 -> 0.184 | D23: =0.05*1.15 -> 0.0575 | E23: =0.04*1.15 -> 0.046 | F23: =0.1*1.15 -> 0.115 | G23: =0.11*1.15 -> 0.1265 | I23: Legend
A24: Laverton North | B24: =0.22*1.15 -> 0.253 | C24: =0.24*1.15 -> 0.276 | D24: =0.1*1.15 -> 0.115 | E24: =0.13*1.15 -> 0.1495 | F24: =0.04*1.15 -> 0.046 | G24: =0.05*1.15 -> 0.0575 | J24: Input Parameter
B27: Daily Production and Distribution of Breads
A28: Shop Plant | B28: Glen Waverley | C28: Doncaster | D28: Melbourne CBD | E28: Thomastown | F28: St.Albans | G28: Hoppers Crossing | H28: Line Open (1) or Close (0) | I28: Total Daily Production | J28: Excess Capacity
A29: Mentone | B29: 805 | C29: 1120 | D29: 1800 | E29: 590 | F29: 920 | G29: 765 | H29: =IF(I29>0,1,0) -> 1 | I29: =SUM(B29:G29) -> 6000 | J29: =6000-I29 -> 0
A30: Prahran | B30: 0 | C30: 0 | D30: 0 | E30: 0 | F30: 0 | G30: 0 | H30: =IF(I30>0,1,0) -> 0 | I30: =SUM(B30:G30) -> 0 | J30: =6000-I30 -> 6000
A31: Northcote | B31: 0 | C31: 0 | D31: 0 | E31: 0 | F31: 0 | G31: 0 | H31: =IF(I31>0,1,0) -> 0 | I31: =SUM(B31:G31) -> 0 | J31: =7000-I31 -> 7000
A32: Laverton North | B32: 0 | C32: 0 | D32: 0 | E32: 0 | F32: 0 | G32: 355 | H32: =IF(I32>0,1,0) -> 1 | I32: =SUM(B32:G32) -> 355 | J32: =7500-I32 -> 7145
A33: Total Daily Supply | B33: =SUM(B29:B32) -> 805 | C33: =SUM(C29:C32) -> 1120 | D33: =SUM(D29:D32) -> 1800 | E33: =SUM(E29:E32) -> 590 | F33: =SUM(F29:F32) -> 920 | G33: =SUM(G29:G32) -> 1120
A34: Unmet Demand | B34: =B14-B33 -> -5.1233087e-08 | C34: =C14-C33 -> -3.4106051e-12 | D34: =D14-D33 -> 1.5307933e-08 | E34: =E14-E33 -> -6.5532504e-09 | F34: =F14-F33 -> 0 | G34: =G14-G33 -> 0
B37: Daily Production and Distribution of Pies
A38: Shop Plant | B38: Glen Waverley | C38: Doncaster | D38: Melbourne CBD | E38: Thomastown | F38: St.Albans | G38: Hoppers Crossing | H38: Line Open (1) or Close (0) | I38: Total Daily Production | J38: Excess Capacity
A39: Mentone | B39: 460 | C39: 784 | D39: 1200 | E39: 354 | F39: 517.5 | G39: 684.5 | H39: =IF(I39>0,1,0) -> 1 | I39: =SUM(B39:G39) -> 4000 | J39: =4000-I39 -> 0
A40: Prahran | B40: 0 | C40: 0 | D40: 0 | E40: 0 | F40: 0 | G40: 0 | H40: =IF(I40>0,1,0) -> 0 | I40: =SUM(B40:G40) -> 0 | J40: =4500-I40 -> 4500
A41: Northcote | B41: 0 | C41: 0 | D41: 0 | E41: 0 | F41: 0 | G41: 0 | H41: =IF(I41>0,1,0) -> 0 | I41: =SUM(B41:G41) -> 0 | J41: =5200-I41 -> 5200
A42: Laverton North | B42: 0 | C42: 0 | D42: 0 | E42: 0 | F42: 0 | G42: 155.5 | H42: =IF(I42>0,1,0) -> 1 | I42: =SUM(B42:G42) -> 155.5 | J42: =5500-I42 -> 5344.5
A43: Total Daily Supply | B43: =SUM(B39:B42) -> 460 | C43: =SUM(C39:C42) -> 784 | D43: =SUM(D39:D42) -> 1200 | E43: =SUM(E39:E42) -> 354 | F43: =SUM(F39:F42) -> 517.5 | G43: =SUM(G39:G42) -> 840
A44: Unmet Demand | B44: =B15-B43 -> 0 | C44: =C15-C43 -> 0 | D44: =D15-D43 -> -9.8439887e-07 | E44: =E15-E43 -> -2.4481324e-08 | F44: =F15-F43 -> 1.0320764e-07 | G44: =G15-G43 -> 0
A47: Annual Cost
A48: Construction Cost | B48: =(IF(I30>0,1200000)+(IF(I31>0,1500000)+(IF(I32>0,1600000))))+(IF(I40>0,1200000)+(IF(I41>0,1500000)+(IF(I42>0,1600000)))) -> 3200000
A49: Fixed Cost | B49: =(IF(I29>0,B6)+(IF(I30>0,B7)+(IF(I31>0,B8)+(IF(I32>0,B9)))))+(IF(I39>0,E6)+(IF(I40>0,E7)+(IF(I41>0,E8)+(IF(I42>0,E9))))) -> 1060000 | D49: Legend
A50: Variable Cost | B50: =(((SUM(B29:G29)*C6)+(SUM(B29:G29)*F6))+((SUM(B30:G30)*C7)+(SUM(B30:G30)*F7))+((SUM(B31:G31)*C8)+(SUM(B31:G31)*F8))+((SUM(B32:G32)*C9)+(SUM(B32:G32)*F9)))*360 -> 1817460 | E50: Decision Variables
A51: Transport Cost | B51: =360*(((SUMPRODUCT(B29:G29,B21:G21)+SUMPRODUCT(B39:G39,B21:G21))+((SUMPRODUCT(B30:G30,B22:G22)+SUMPRODUCT(B40:G40,B22:G22))+((SUMPRODUCT(B31:G31,B23:G23)+SUMPRODUCT(B41:G41,B23:G23))+((SUMPRODUCT(B32:G32,B24:G24)+SUMPRODUCT(B42:G42,B24:G24))))))) -> 647262.09 | E51: Constraint
A52: Total Annual Cost | B52: =SUM(B48:B51) -> 6724722.1 | E52: Cost Item

Sheet Scenario A (Y2)
B3: Plant Cost and Capacity
B4: Breads | E4: Pies
A5: Plant | B5: Annual Fixed Cost | C5: Vaiable Cost/Unit | D5: Daily Capacity | E5: Annual Fixed Cost | F5: Variable Cost/Unit | G5: Daily Capacity
A6: Mentone | B6: 200000 | C6: 0.3 | D6: 6000 | E6: 300000 | F6: 0.5 | G6: 4000
A7: Prahran | B7: 220000 | C7: 0.25 | D7: 6000 | E7: 300000 | F7: 0.45 | G7: 4500
A8: Northcote | B8: 240000 | C8: 0.25 | D8: 7000 | E8: 320000 | F8: 0.45 | G8: 5200
A9: Laverton North | B9: 240000 | C9: 0.25 | D9: 7500 | E9: 320000 | F9: 0.45 | G9: 5500
B12: Daily Demand by Product
A13: Shop | B13: Glen Waverley | C13: Doncaster | D13: Melbourne CBD | E13: Thomastown | F13: St.Albans | G13: Hoppers Crossing
A14: Breads | B14: ='Scenario A (Y1)'!B14*1.15 -> 925.75 | C14: ='Scenario A (Y1)'!C14*1.12 -> 1254.4 | D14: ='Scenario A (Y1)'!D14*1.2 -> 2160 | E14: ='Scenario A (Y1)'!E14*1.18 -> 696.2 | F14: ='Scenario A (Y1)'!F14*1.15 -> 1058 | G14: ='Scenario A (Y1)'!G14*1.12 -> 1254.4
A15: Pies | B15: ='Scenario A (Y1)'!B15*1.15 -> 529 | C15: ='Scenario A (Y1)'!C15*1.12 -> 878.08 | D15: ='Scenario A (Y1)'!D15*1.2 -> 1440 | E15: ='Scenario A (Y1)'!E15*1.18 -> 417.72 | F15: ='Scenario A (Y1)'!F15*1.15 -> 595.125 | G15: ='Scenario A (Y1)'!G15*1.12 -> 940.8
A16: Total | B16: =SUM(B14:B15) -> 1454.75 | C16: =SUM(C14:C15) -> 2132.48 | D16: =SUM(D14:D15) -> 3600 | E16: =SUM(E14:E15) -> 1113.92 | F16: =SUM(F14:F15) -> 1653.125 | G16: =SUM(G14:G15) -> 2195.2
B19: Transportation Cost per Unit
A20: Shop Plant | B20: Glen Waverley | C20: Doncaster | D20: Melbourne CBD | E20: Thomastown | F20: St.Albans | G20: Hoppers Crossing
A21: Mentone | B21: ='Scenario A (Y1)'!B21*(1+15%) -> 0.13225 | C21: ='Scenario A (Y1)'!C21*(1+15%) -> 0.1587 | D21: ='Scenario A (Y1)'!D21*(1+15%) -> 0.145475 | E21: ='Scenario A (Y1)'!E21*(1+15%) -> 0.2645 | F21: ='Scenario A (Y1)'!F21*(1+15%) -> 0.29095 | G21: ='Scenario A (Y1)'!G21*(1+15%) -> 0.3174
A22: Prahran | B22: ='Scenario A (Y1)'!B22*(1+15%) -> 0.13225 | C22: ='Scenario A (Y1)'!C22*(1+15%) -> 0.1587 | D22: ='Scenario A (Y1)'!D22*(1+15%) -> 0.0529 | E22: ='Scenario A (Y1)'!E22*(1+15%) -> 0.1587 | F22: ='Scenario A (Y1)'!F22*(1+15%) -> 0.198375 | G22: ='Scenario A (Y1)'!G22*(1+15%) -> 0.224825
A23: Northcote | B23: ='Scenario A (Y1)'!B23*(1+15%) -> 0.23805 | C23: ='Scenario A (Y1)'!C23*(1+15%) -> 0.2116 | D23: ='Scenario A (Y1)'!D23*(1+15%) -> 0.066125 | E23: ='Scenario A (Y1)'!E23*(1+15%) -> 0.0529 | F23: ='Scenario A (Y1)'!F23*(1+15%) -> 0.13225 | G23: ='Scenario A (Y1)'!G23*(1+15%) -> 0.145475 | I23: Legend
A24: Laverton North | B24: ='Scenario A (Y1)'!B24*(1+15%) -> 0.29095 | C24: ='Scenario A (Y1)'!C24*(1+15%) -> 0.3174 | D24: ='Scenario A (Y1)'!D24*(1+15%) -> 0.13225 | E24: ='Scenario A (Y1)'!E24*(1+15%) -> 0.171925 | F24: ='Scenario A (Y1)'!F24*(1+15%) -> 0.0529 | G24: ='Scenario A (Y1)'!G24*(1+15%) -> 0.066125 | J24: Input Parameter
B27: Daily Production and Distribution of Breads
A28: Shop Plant | B28: Glen Waverley | C28: Doncaster | D28: Melbourne CBD | E28: Thomastown | F28: St.Albans | G28: Hoppers Crossing | H28: Line Open (1) or Close (0) | I28: Total Daily Production | J28: Excess Capacity
A29: Mentone | B29: 791.35002 | C29: 1119.9999 | D29: 1841.85 | E29: 561.80002 | F29: 920 | G29: 765 | H29: =IF(I29>0,1,0) -> 1 | I29: =SUM(B29:G29) -> 6000 | J29: =6000-I29 -> 0
A30: Prahran | B30: 0 | C30: 0 | D30: 0 | E30: 0 | F30: 0 | G30: 0 | H30: =IF(I30>0,1,0) -> 0 | I30: =SUM(B30:G30) -> 0 | J30: =6000-I30 -> 6000
A31: Northcote | B31: 0 | C31: 0 | D31: 0 | E31: 0 | F31: 0 | G31: 0 | H31: =IF(I31>0,1,0) -> 0 | I31: =SUM(B31:G31) -> 0 | J31: =7000-I31 -> 7000
A32: Laverton North | B32: 134.39998 | C32: 134.40005 | D32: 134.40005 | E32: 134.39998 | F32: 134.39998 | G32: 489.4 | H32: =IF(I32>0,1,0) -> 1 | I32: =SUM(B32:G32) -> 1161.4 | J32: =7500-I32 -> 6338.6
A33: Total Daily Supply | B33: =SUM(B29:B32) -> 925.75 | C33: =SUM(C29:C32) -> 1254.4 | D33: =SUM(D29:D32) -> 1976.2501 | E33: =SUM(E29:E32) -> 696.2 | F33: =SUM(F29:F32) -> 1054.4 | G33: =SUM(G29:G32) -> 1254.4
A34: Unmet Demand | B34: =B14-B33 -> 0 | C34: =C14-C33 -> 0 | D34: =D14-D33 -> 183.74994 | E34: =E14-E33 -> 0 | F34: =F14-F33 -> 3.6000228 | G34: =G14-G33 -> 0
B37: Daily Production and Distribution of Pies
A38: Shop Plant | B38: Glen Waverley | C38: Doncaster | D38: Melbourne CBD | E38: Thomastown | F38: St.Albans | G38: Hoppers Crossing | H38: Line Open (1) or Close (0) | I38: Total Daily Production | J38: Excess Capacity
A39: Mentone | B39: 421.46249 | C39: 770.54253 | D39: 1332.4625 | E39: 310.18249 | F39: 487.58753 | G39: 677.76251 | H39: =IF(I39>0,1,0) -> 1 | I39: =SUM(B39:G39) -> 4000 | J39: =4000-I39 -> 0
A40: Prahran | B40: 0 | C40: 0 | D40: 0 | E40: 0 | F40: 0 | G40: 0 | H40: =IF(I40>0,1,0) -> 0 | I40: =SUM(B40:G40) -> 0 | J40: =4500-I40 -> 4500
A41: Northcote | B41: 0 | C41: 0 | D41: 0 | E41: 0 | F41: 0 | G41: 0 | H41: =IF(I41>0,1,0) -> 0 | I41: =SUM(B41:G41) -> 0 | J41: =5200-I41 -> 5200
A42: Laverton North | B42: 107.53751 | C42: 107.53747 | D42: 107.53755 | E42: 107.53751 | F42: 107.53747 | G42: 263.03749 | H42: =IF(I42>0,1,0) -> 1 | I42: =SUM(B42:G42) -> 800.725 | J42: =5500-I42 -> 4699.275
A43: Total Daily Supply | B43: =SUM(B39:B42) -> 529 | C43: =SUM(C39:C42) -> 878.08 | D43: =SUM(D39:D42) -> 1440 | E43: =SUM(E39:E42) -> 417.72 | F43: =SUM(F39:F42) -> 595.125 | G43: =SUM(G39:G42) -> 940.8
A44: Unmet Demand | B44: =B15-B43 -> 0 | C44: =C15-C43 -> 0 | D44: =D15-D43 -> 0 | E44: =E15-E43 -> 0 | F44: =F15-F43 -> 0 | G44: =G15-G43 -> 0
A47: Annual Cost
A48: Fixed Cost | B48: =(IF(I29>0,B6)+(IF(I30>0,B7)+(IF(I31>0,B8)+(IF(I32>0,B9)))))+(IF(I39>0,E6)+(IF(I40>0,E7)+(IF(I41>0,E8)+(IF(I42>0,E9))))) -> 1060000 | D48: Legend
A49: Variable Cost | B49: =(((SUM(B29:G29)*C6)+(SUM(B29:G29)*F6))+((SUM(B30:G30)*C7)+(SUM(B30:G30)*F7))+((SUM(B31:G31)*C8)+(SUM(B31:G31)*F8))+((SUM(B32:G32)*C9)+(SUM(B32:G32)*F9)))*360 -> 2020672.8 | E49: Decision Variables
A50: Transport Cost | B50: =360*(((SUMPRODUCT(B29:G29,B21:G21)+SUMPRODUCT(B39:G39,B21:G21))+((SUMPRODUCT(B30:G30,B22:G22)+SUMPRODUCT(B40:G40,B22:G22))+((SUMPRODUCT(B31:G31,B23:G23)+SUMPRODUCT(B41:G41,B23:G23))+((SUMPRODUCT(B32:G32,B24:G24)+SUMPRODUCT(B42:G42,B24:G24))))))) -> 829311.8 | E50: Constraint
A51: Total Annual Cost | B51: =SUM(B48:B50) -> 3909984.6 | E51: Cost Item

Sheet Scenario A (Y3)
B3: Plant Cost and Capacity
B4: Breads | E4: Pies
A5: Plant | B5: Annual Fixed Cost | C5: Vaiable Cost/Unit | D5: Daily Capacity | E5: Annual Fixed Cost | F5: Variable Cost/Unit | G5: Daily Capacity
A6: Mentone | B6: 200000 | C6: 0.3 | D6: 6000 | E6: 300000 | F6: 0.5 | G6: 4000
A7: Prahran | B7: 220000 | C7: 0.25 | D7: 6000 | E7: 300000 | F7: 0.45 | G7: 4500
A8: Northcote | B8: 240000 | C8: 0.25 | D8: 7000 | E8: 320000 | F8: 0.45 | G8: 5200
A9: Laverton North | B9: 240000 | C9: 0.25 | D9: 7500 | E9: 320000 | F9: 0.45 | G9: 5500
B12: Daily Demand by Product
A13: Shop | B13: Glen Waverley | C13: Doncaster | D13: Melbourne CBD | E13: Thomastown | F13: St.Albans | G13: Hoppers Crossing
A14: Breads | B14: ='Scenario A (Y2)'!B14*1.15 -> 1064.6125 | C14: ='Scenario A (Y2)'!C14*1.15 -> 1442.56 | D14: ='Scenario A (Y2)'!D14*1.15 -> 2484 | E14: ='Scenario A (Y2)'!E14*1.15 -> 800.63 | F14: ='Scenario A (Y2)'!F14*1.15 -> 1216.7 | G14: ='Scenario A (Y2)'!G14*1.15 -> 1442.56
A15: Pies | B15: ='Scenario A (Y2)'!B15*1.15 -> 608.35 | C15: ='Scenario A (Y2)'!C15*1.15 -> 1009.792 | D15: ='Scenario A (Y2)'!D15*1.15 -> 1656 | E15: ='Scenario A (Y2)'!E15*1.15 -> 480.378 | F15: ='Scenario A (Y2)'!F15*1.15 -> 684.39375 | G15: ='Scenario A (Y2)'!G15*1.15 -> 1081.92
A16: Total | B16: ='Scenario A (Y2)'!B16*1.15 -> 1672.9625 | C16: ='Scenario A (Y2)'!C16*1.15 -> 2452.352 | D16: ='Scenario A (Y2)'!D16*1.15 -> 4140 | E16: ='Scenario A (Y2)'!E16*1.15 -> 1281.008 | F16: ='Scenario A (Y2)'!F16*1.15 -> 1901.0937 | G16: ='Scenario A (Y2)'!G16*1.15 -> 2524.48
B19: Transportation Cost per Unit
A20: Shop Plant | B20: Glen Waverley | C20: Doncaster | D20: Melbourne CBD | E20: Thomastown | F20: St.Albans | G20: Hoppers Crossing
A21: Mentone | B21: ='Scenario A (Y2)'!B21*1.15 -> 0.1520875 | C21: ='Scenario A (Y2)'!C21*1.15 -> 0.182505 | D21: ='Scenario A (Y2)'!D21*1.15 -> 0.16729625 | E21: ='Scenario A (Y2)'!E21*1.15 -> 0.304175 | F21: ='Scenario A (Y2)'!F21*1.15 -> 0.3345925 | G21: ='Scenario A (Y2)'!G21*1.15 -> 0.36501
A22: Prahran | B22: ='Scenario A (Y2)'!B22*1.15 -> 0.1520875 | C22: ='Scenario A (Y2)'!C22*1.15 -> 0.182505 | D22: ='Scenario A (Y2)'!D22*1.15 -> 0.060835 | E22: ='Scenario A (Y2)'!E22*1.15 -> 0.182505 | F22: ='Scenario A (Y2)'!F22*1.15 -> 0.22813125 | G22: ='Scenario A (Y2)'!G22*1.15 -> 0.25854875
A23: Northcote | B23: ='Scenario A (Y2)'!B23*1.15 -> 0.2737575 | C23: ='Scenario A (Y2)'!C23*1.15 -> 0.24334 | D23: ='Scenario A (Y2)'!D23*1.15 -> 0.07604375 | E23: ='Scenario A (Y2)'!E23*1.15 -> 0.060835 | F23: ='Scenario A (Y2)'!F23*1.15 -> 0.1520875 | G23: ='Scenario A (Y2)'!G23*1.15 -> 0.16729625 | I23: Legend
A24: Laverton North | B24: ='Scenario A (Y2)'!B24*1.15 -> 0.3345925 | C24: ='Scenario A (Y2)'!C24*1.15 -> 0.36501 | D24: ='Scenario A (Y2)'!D24*1.15 -> 0.1520875 | E24: ='Scenario A (Y2)'!E24*1.15 -> 0.19771375 | F24: ='Scenario A (Y2)'!F24*1.15 -> 0.060835 | G24: ='Scenario A (Y2)'!G24*1.15 -> 0.07604375 | J24: Input Parameter
B27: Daily Production and Distribution of Breads
A28: Shop Plant | B28: Glen Waverley | C28: Doncaster | D28: Melbourne CBD | E28: Thomastown | F28: St.Albans | G28: Hoppers Crossing | H28: Line Open (1) or Close (0) | I28: Total Daily Production | J28: Excess Capacity
A29: Mentone | B29: 1064.6125 | C29: 1442.56 | D29: 2484 | E29: 800.63 | F29: 208.1975 | G29: 0 | H29: =IF(I29>0,1,0) -> 1 | I29: =SUM(B29:G29) -> 6000 | J29: =6000-I29 -> 0
A30: Prahran | B30: 0 | C30: 0 | D30: 0 | E30: 0 | F30: 0 | G30: 0 | H30: =IF(I30>0,1,0) -> 0 | I30: =SUM(B30:G30) -> 0 | J30: =6000-I30 -> 6000
A31: Northcote | B31: 0 | C31: 0 | D31: 0 | E31: 0 | F31: 0 | G31: 0 | H31: =IF(I31>0,1,0) -> 0 | I31: =SUM(B31:G31) -> 0 | J31: =7000-I31 -> 7000
A32: Laverton North | B32: -3.5527137e-15 | C32: 0 | D32: 0 | E32: 0 | F32: 1008.5025 | G32: 1442.56 | H32: =IF(I32>0,1,0) -> 1 | I32: =SUM(B32:G32) -> 2451.0625 | J32: =7500-I32 -> 5048.9375
A33: Total Daily Supply | B33: =SUM(B29:B32) -> 1064.6125 | C33: =SUM(C29:C32) -> 1442.56 | D33: =SUM(D29:D32) -> 2484 | E33: =SUM(E29:E32) -> 800.63 | F33: =SUM(F29:F32) -> 1216.7 | G33: =SUM(G29:G32) -> 1442.56
A34: Unmet Demand | B34: =B14-B33 -> 0 | C34: =C14-C33 -> 0 | D34: =D14-D33 -> 0 | E34: =E14-E33 -> 0 | F34: =F14-F33 -> 0 | G34: =G14-G33 -> 0
B37: Daily Production and Distribution of Pies
A38: Shop Plant | B38: Glen Waverley | C38: Doncaster | D38: Melbourne CBD | E38: Thomastown | F38: St.Albans | G38: Hoppers Crossing | H38: Line Open (1) or Close (0) | I38: Total Daily Production | J38: Excess Capacity
A39: Mentone | B39: 608.35 | C39: 1009.792 | D39: 1656 | E39: 480.378 | F39: 245.48 | G39: 0 | H39: =IF(I39>0,1,0) -> 1 | I39: =SUM(B39:G39) -> 4000 | J39: =4000-I39 -> -8.8633669e-07
A40: Prahran | B40: 0 | C40: 0 | D40: 0 | E40: 0 | F40: 0 | G40: 0 | H40: =IF(I40>0,1,0) -> 0 | I40: =SUM(B40:G40) -> 0 | J40: =4500-I40 -> 4500
A41: Northcote | B41: 0 | C41: 0 | D41: 0 | E41: 0 | F41: 0 | G41: 0 | H41: =IF(I41>0,1,0) -> 0 | I41: =SUM(B41:G41) -> 0 | J41: =5200-I41 -> 5200
A42: Laverton North | B42: 0 | C42: 0 | D42: 0 | E42: 0 | F42: 438.91375 | G42: 1081.92 | H42: =IF(I42>0,1,0) -> 1 | I42: =SUM(B42:G42) -> 1520.8337 | J42: =5500-I42 -> 3979.1663
A43: Total Daily Supply | B43: =SUM(B39:B42) -> 608.35 | C43: =SUM(C39:C42) -> 1009.792 | D43: =SUM(D39:D42) -> 1656 | E43: =SUM(E39:E42) -> 480.378 | F43: =SUM(F39:F42) -> 684.39375 | G43: =SUM(G39:G42) -> 1081.92
A44: Unmet Demand | B44: =B15-B43 -> 0 | C44: =C15-C43 -> 0 | D44: =D15-D43 -> 0 | E44: =E15-E43 -> 0 | F44: =F15-F43 -> 0 | G44: =G15-G43 -> 0
A47: Annual Cost
A48: Fixed Cost | B48: =(IF(I29>0,B6)+(IF(I30>0,B7)+(IF(I31>0,B8)+(IF(I32>0,B9)))))+(IF(I39>0,E6)+(IF(I40>0,E7)+(IF(I41>0,E8)+(IF(I42>0,E9))))) -> 1060000 | D48: Legend
A49: Variable Cost | B49: =(((SUM(B29:G29)*C6)+(SUM(B29:G29)*F6))+((SUM(B30:G30)*C7)+(SUM(B30:G30)*F7))+((SUM(B31:G31)*C8)+(SUM(B31:G31)*F8))+((SUM(B32:G32)*C9)+(SUM(B32:G32)*F9)))*360 -> 2345667.7 | E49: Decision Variables
A50: Transport Cost | B50: =360*(((SUMPRODUCT(B29:G29,B21:G21)+SUMPRODUCT(B39:G39,B21:G21))+((SUMPRODUCT(B30:G30,B22:G22)+SUMPRODUCT(B40:G40,B22:G22))+((SUMPRODUCT(B31:G31,B23:G23)+SUMPRODUCT(B41:G41,B23:G23))+((SUMPRODUCT(B32:G32,B24:G24)+SUMPRODUCT(B42:G42,B24:G24))))))) -> 797789.47 | E50: Constraint
A51: Total Annual Cost | B51: =SUM(B48:B50) -> 4203457.2 | E51: Cost Item

Sheet Recommendation Scenario A
A1: 1) The company is recommeded to set up a new plant in Laverton North for production of both Breads and Pies besides production plant Mentone for both-Breads and Pies.
A2: 2) The optimal poduction Plan with repsect to product categories and Year wise (Year 1 to Year 3) for minimizing the annual cost will be as follows.
A4: Year 1 | C4: Daily Production and Distribution of Breads
B5: Shop Plant | C5: Glen Waverley | D5: Doncaster | E5: Melbourne CBD | F5: Thomastown | G5: St.Albans | H5: Hoppers Crossing | I5: Total Daily Production
B6: Mentone | C6: 805 | D6: 1120 | E6: 1800 | F6: 590 | G6: 920 | H6: 765 | I6: =SUM(C6:H6) -> 6000
B7: Laverton North | C7: 0 | D7: 0 | E7: 0 | F7: 0 | G7: 0 | H7: 355 | I7: =SUM(C7:H7) -> 355
B10: Daily Production and Distribution of Pies
B11: Shop Plant | C11: Glen Waverley | D11: Doncaster | E11: Melbourne CBD | F11: Thomastown | G11: St.Albans | H11: Hoppers Crossing | I11: Total Daily Production
B12: Mentone | C12: 460 | D12: 784 | E12: 1200 | F12: 354 | G12: 517.5 | H12: 684.5 | I12: =SUM(C12:H12) -> 4000
B13: Laverton North | C13: 0 | D13: 0 | E13: 0 | F13: 0 | G13: 0 | H13: 155.5 | I13: =SUM(C13:H13) -> 155.5
A16: Year 2 | C16: Daily Production and Distribution of Breads
B17: Shop Plant | C17: Glen Waverley | D17: Doncaster | E17: Melbourne CBD | F17: Thomastown | G17: St.Albans | H17: Hoppers Crossing | I17: Total Daily Production
B18: Mentone | C18: 791.35002 | D18: 1119.9999 | E18: 1841.85 | F18: 561.80002 | G18: 920 | H18: 765 | I18: =SUM(C18:H18) -> 6000
B19: Laverton North | C19: 134.39998 | D19: 134.40005 | E19: 134.40005 | F19: 134.39998 | G19: 134.39998 | H19: 489.4 | I19: =SUM(C19:H19) -> 1161.4
B22: Daily Production and Distribution of Pies
B23: Shop Plant | C23: Glen Waverley | D23: Doncaster | E23: Melbourne CBD | F23: Thomastown | G23: St.Albans | H23: Hoppers Crossing | I23: Total Daily Production
B24: Mentone | C24: 421.46249 | D24: 770.54253 | E24: 1332.4625 | F24: 310.18249 | G24: 487.58753 | H24: 677.76251 | I24: =SUM(C24:H24) -> 4000
B25: Laverton North | C25: 107.53751 | D25: 107.53747 | E25: 107.53755 | F25: 107.53751 | G25: 107.53747 | H25: 263.03749 | I25: =SUM(C25:H25) -> 800.725
A28: Year 3 | C28: Daily Production and Distribution of Breads
B29: Shop Plant | C29: Glen Waverley | D29: Doncaster | E29: Melbourne CBD | F29: Thomastown | G29: St.Albans | H29: Hoppers Crossing | I29: Total Daily Production
B30: Mentone | C30: 1064.6125 | D30: 1442.56 | E30: 2484 | F30: 800.63 | G30: 208.1975 | H30: 0 | I30: =SUM(C30:H30) -> 6000
B31: Laverton North | C31: -3.5527137e-15 | D31: 0 | E31: 0 | F31: 0 | G31: 1008.5025 | H31: 1442.56 | I31: =SUM(C31:H31) -> 2451.0625
B34: Daily Production and Distribution of Pies
B35: Shop Plant | C35: Glen Waverley | D35: Doncaster | E35: Melbourne CBD | F35: Thomastown | G35: St.Albans | H35: Hoppers Crossing | I35: Total Daily Production
B36: Mentone | C36: 608.35 | D36: 1009.792 | E36: 1656 | F36: 480.378 | G36: 245.48 | H36: 0 | I36: =SUM(C36:H36) -> 4000
B37: Laverton North | C37: 0 | D37: 0 | E37: 0 | F37: 0 | G37: 438.91375 | H37: 1081.92 | I37: =SUM(C37:H37) -> 1520.8337

Sheet Scenario B (Y1)
B3: Plant Cost and Capacity
B4: Breads | E4: Pies
A5: Plant | B5: Annual Fixed Cost | C5: Vaiable Cost/Unit | D5: Daily Capacity | E5: Annual Fixed Cost | F5: Variable Cost/Unit | G5: Daily Capacity
A6: Mentone | B6: 200000 | C6: 0.3 | D6: 6000 | E6: 300000 | F6: 0.5 | G6: 4000
A7: Prahran | B7: 220000 | C7: 0.25 | D7: 6000 | E7: 300000 | F7: 0.45 | G7: 4500
A8: Northcote | B8: 240000 | C8: 0.25 | D8: 7000 | E8: 320000 | F8: 0.45 | G8: 5200
A9: Laverton North | B9: 240000 | C9: 0.25 | D9: 7500 | E9: 320000 | F9: 0.45 | G9: 5500
B12: Daily Demand by Product
A13: Shop | B13: Glen Waverley | C13: Doncaster | D13: Melbourne CBD | E13: Thomastown | F13: St.Albans | G13: Hoppers Crossing
A14: Breads | B14: =700*1.15 -> 805 | C14: =1000*1.12 -> 1120 | D14: =1500*1.2 -> 1800 | E14: =500*1.18 -> 590 | F14: =800*1.15 -> 920 | G14: =1000*1.12 -> 1120
A15: Pies | B15: =400*1.15 -> 460 | C15: =700*1.12 -> 784 | D15: =1000*1.2 -> 1200 | E15: =300*1.18 -> 354 | F15: =450*1.15 -> 517.5 | G15: =750*1.12 -> 840
A16: Total | B16: =SUM(B14:B15) -> 1265 | C16: =SUM(C14:C15) -> 1904 | D16: =SUM(D14:D15) -> 3000 | E16: =SUM(E14:E15) -> 944 | F16: =SUM(F14:F15) -> 1437.5 | G16: =SUM(G14:G15) -> 1960
B19: Transportation Cost per Unit
A20: Shop Plant | B20: Glen Waverley | C20: Doncaster | D20: Melbourne CBD | E20: Thomastown | F20: St.Albans | G20: Hoppers Crossing
A21: Mentone | B21: =0.1*1.15 -> 0.115 | C21: =0.12*1.15 -> 0.138 | D21: =0.11*1.15 -> 0.1265 | E21: =0.2*1.15 -> 0.23 | F21: =0.22*1.15 -> 0.253 | G21: =0.24*1.15 -> 0.276
A22: Prahran | B22: =0.1*1.15 -> 0.115 | C22: =0.12*1.15 -> 0.138 | D22: =0.04*1.15 -> 0.046 | E22: =0.12*1.15 -> 0.138 | F22: =0.15*1.15 -> 0.1725 | G22: =0.17*1.15 -> 0.1955
A23: Northcote | B23: =0.18*1.15 -> 0.207 | C23: =0.16*1.15 -> 0.184 | D23: =0.05*1.15 -> 0.0575 | E23: =0.04*1.15 -> 0.046 | F23: =0.1*1.15 -> 0.115 | G23: =0.11*1.15 -> 0.1265 | I23: Legend
A24: Laverton North | B24: =0.22*1.15 -> 0.253 | C24: =0.24*1.15 -> 0.276 | D24: =0.1*1.15 -> 0.115 | E24: =0.13*1.15 -> 0.1495 | F24: =0.04*1.15 -> 0.046 | G24: =0.05*1.15 -> 0.0575 | J24: Input Parameter
B27: Daily Production and Distribution of Breads
A28: Shop Plant | B28: Glen Waverley | C28: Doncaster | D28: Melbourne CBD | E28: Thomastown | F28: St.Albans | G28: Hoppers Crossing | H28: Line Open (1) or Close (0) | I28: Total Daily Production | J28: Excess Capacity
A29: Mentone | B29: 805 | C29: 1120 | D29: 1800 | E29: 590 | F29: 920 | G29: 765 | H29: =IF(I29>0,1,0) -> 1 | I29: =SUM(B29:G29) -> 6000 | J29: =6000-I29 -> 0
A30: Prahran | B30: 0 | C30: 0 | D30: 0 | E30: 0 | F30: 0 | G30: 0 | H30: =IF(I30>0,1,0) -> 0 | I30: =SUM(B30:G30) -> 0 | J30: =6000-I30 -> 6000
A31: Northcote | B31: 0 | C31: 0 | D31: 0 | E31: 0 | F31: 0 | G31: 0 | H31: =IF(I31>0,1,0) -> 0 | I31: =SUM(B31:G31) -> 0 | J31: =7000-I31 -> 7000
A32: Laverton North | B32: 0 | C32: 0 | D32: 0 | E32: 0 | F32: 0 | G32: 355 | H32: =IF(I32>0,1,0) -> 1 | I32: =SUM(B32:G32) -> 355 | J32: =7500-I32 -> 7145
A33: Total Daily Supply | B33: =SUM(B29:B32) -> 805 | C33: =SUM(C29:C32) -> 1120 | D33: =SUM(D29:D32) -> 1800 | E33: =SUM(E29:E32) -> 590 | F33: =SUM(F29:F32) -> 920 | G33: =SUM(G29:G32) -> 1120
A34: Unmet Demand | B34: =B14-B33 -> -5.1233087e-08 | C34: =C14-C33 -> -3.4106051e-12 | D34: =D14-D33 -> 1.5307933e-08 | E34: =E14-E33 -> -6.5532504e-09 | F34: =F14-F33 -> 0 | G34: =G14-G33 -> 0
B37: Daily Production and Distribution of Pies
A38: Shop Plant | B38: Glen Waverley | C38: Doncaster | D38: Melbourne CBD | E38: Thomastown | F38: St.Albans | G38: Hoppers Crossing | H38: Line Open (1) or Close (0) | I38: Total Daily Production | J38: Excess Capacity
A39: Mentone | B39: 460 | C39: 784 | D39: 1200 | E39: 354 | F39: 517.5 | G39: 684.5 | H39: =IF(I39>0,1,0) -> 1 | I39: =SUM(B39:G39) -> 4000 | J39: =4000-I39 -> 0
A40: Prahran | B40: 0 | C40: 0 | D40: 0 | E40: 0 | F40: 0 | G40: 0 | H40: =IF(I40>0,1,0) -> 0 | I40: =SUM(B40:G40) -> 0 | J40: =4500-I40 -> 4500
A41: Northcote | B41: 0 | C41: 0 | D41: 0 | E41: 0 | F41: 0 | G41: 0 | H41: =IF(I41>0,1,0) -> 0 | I41: =SUM(B41:G41) -> 0 | J41: =5200-I41 -> 5200
A42: Laverton North | B42: 0 | C42: 0 | D42: 0 | E42: 0 | F42: 0 | G42: 155.5 | H42: =IF(I42>0,1,0) -> 1 | I42: =SUM(B42:G42) -> 155.5 | J42: =5500-I42 -> 5344.5
A43: Total Daily Supply | B43: =SUM(B39:B42) -> 460 | C43: =SUM(C39:C42) -> 784 | D43: =SUM(D39:D42) -> 1200 | E43: =SUM(E39:E42) -> 354 | F43: =SUM(F39:F42) -> 517.5 | G43: =SUM(G39:G42) -> 840
A44: Unmet Demand | B44: =B15-B43 -> 0 | C44: =C15-C43 -> 0 | D44: =D15-D43 -> -9.8439887e-07 | E44: =E15-E43 -> -2.4481324e-08 | F44: =F15-F43 -> 1.0320764e-07 | G44: =G15-G43 -> 0
A47: Annual Cost
A48: Construction Cost | B48: =(IF(I30>0,1200000)+(IF(I31>0,1500000)+(IF(I32>0,1600000))))+(IF(I40>0,1200000)+(IF(I41>0,1500000)+(IF(I42>0,1600000)))) -> 3200000
A49: Fixed Cost | B49: =(IF(I29>0,B6)+(IF(I30>0,B7)+(IF(I31>0,B8)+(IF(I32>0,B9)))))+(IF(I39>0,E6)+(IF(I40>0,E7)+(IF(I41>0,E8)+(IF(I42>0,E9))))) -> 1060000 | D49: Legend
A50: Variable Cost | B50: =(((SUM(B29:G29)*C6)+(SUM(B29:G29)*F6))+((SUM(B30:G30)*C7)+(SUM(B30:G30)*F7))+((SUM(B31:G31)*C8)+(SUM(B31:G31)*F8))+((SUM(B32:G32)*C9)+(SUM(B32:G32)*F9)))*360 -> 1817460 | E50: Decision Variables
A51: Transport Cost | B51: =360*(((SUMPRODUCT(B29:G29,B21:G21)+SUMPRODUCT(B39:G39,B21:G21))+((SUMPRODUCT(B30:G30,B22:G22)+SUMPRODUCT(B40:G40,B22:G22))+((SUMPRODUCT(B31:G31,B23:G23)+SUMPRODUCT(B41:G41,B23:G23))+((SUMPRODUCT(B32:G32,B24:G24)+SUMPRODUCT(B42:G42,B24:G24))))))) -> 647262.09 | E51: Constraint
A52: Total Annual Cost | B52: =SUM(B48:B51) -> 6724722.1 | E52: Cost Item

Sheet Scenario B (Y2)
B3: Plant Cost and Capacity
B4: Breads | E4: Pies
A5: Plant | B5: Annual Fixed Cost | C5: Vaiable Cost/Unit | D5: Daily Capacity | E5: Annual Fixed Cost | F5: Variable Cost/Unit | G5: Daily Capacity
A6: Mentone | B6: 200000 | C6: 0.3 | D6: 6000 | E6: 300000 | F6: 0.5 | G6: 4000
A7: Prahran | B7: 220000 | C7: 0.25 | D7: 6000 | E7: 300000 | F7: 0.45 | G7: 4500
A8: Northcote | B8: 240000 | C8: 0.25 | D8: 7000 | E8: 320000 | F8: 0.45 | G8: 5200
A9: Laverton North | B9: 240000 | C9: 0.25 | D9: 7500 | E9: 320000 | F9: 0.45 | G9: 5500
B12: Daily Demand by Product
A13: Shop | B13: Glen Waverley | C13: Doncaster | D13: Melbourne CBD | E13: Thomastown | F13: St.Albans | G13: Hoppers Crossing
A14: Breads | B14: ='Scenario A (Y1)'!B14*1.15 -> 925.75 | C14: ='Scenario A (Y1)'!C14*1.12 -> 1254.4 | D14: ='Scenario A (Y1)'!D14*1.2 -> 2160 | E14: ='Scenario A (Y1)'!E14*1.18 -> 696.2 | F14: ='Scenario A (Y1)'!F14*1.15 -> 1058 | G14: ='Scenario A (Y1)'!G14*1.12 -> 1254.4
A15: Pies | B15: ='Scenario A (Y1)'!B15*1.15 -> 529 | C15: ='Scenario A (Y1)'!C15*1.12 -> 878.08 | D15: ='Scenario A (Y1)'!D15*1.2 -> 1440 | E15: ='Scenario A (Y1)'!E15*1.18 -> 417.72 | F15: ='Scenario A (Y1)'!F15*1.15 -> 595.125 | G15: ='Scenario A (Y1)'!G15*1.12 -> 940.8
A16: Total | B16: =SUM(B14:B15) -> 1454.75 | C16: =SUM(C14:C15) -> 2132.48 | D16: =SUM(D14:D15) -> 3600 | E16: =SUM(E14:E15) -> 1113.92 | F16: =SUM(F14:F15) -> 1653.125 | G16: =SUM(G14:G15) -> 2195.2
B19: Transportation Cost per Unit
A20: Shop Plant | B20: Glen Waverley | C20: Doncaster | D20: Melbourne CBD | E20: Thomastown | F20: St.Albans | G20: Hoppers Crossing
A21: Mentone | B21: ='Scenario A (Y1)'!B21*(1+15%) -> 0.13225 | C21: ='Scenario A (Y1)'!C21*(1+15%) -> 0.1587 | D21: ='Scenario A (Y1)'!D21*(1+15%) -> 0.145475 | E21: ='Scenario A (Y1)'!E21*(1+15%) -> 0.2645 | F21: ='Scenario A (Y1)'!F21*(1+15%) -> 0.29095 | G21: ='Scenario A (Y1)'!G21*(1+15%) -> 0.3174
A22: Prahran | B22: ='Scenario A (Y1)'!B22*(1+15%) -> 0.13225 | C22: ='Scenario A (Y1)'!C22*(1+15%) -> 0.1587 | D22: ='Scenario A (Y1)'!D22*(1+15%) -> 0.0529 | E22: ='Scenario A (Y1)'!E22*(1+15%) -> 0.1587 | F22: ='Scenario A (Y1)'!F22*(1+15%) -> 0.198375 | G22: ='Scenario A (Y1)'!G22*(1+15%) -> 0.224825
A23: Northcote | B23: ='Scenario A (Y1)'!B23*(1+15%) -> 0.23805 | C23: ='Scenario A (Y1)'!C23*(1+15%) -> 0.2116 | D23: ='Scenario A (Y1)'!D23*(1+15%) -> 0.066125 | E23: ='Scenario A (Y1)'!E23*(1+15%) -> 0.0529 | F23: ='Scenario A (Y1)'!F23*(1+15%) -> 0.13225 | G23: ='Scenario A (Y1)'!G23*(1+15%) -> 0.145475 | I23: Legend
A24: Laverton North | B24: ='Scenario A (Y1)'!B24*(1+15%) -> 0.29095 | C24: ='Scenario A (Y1)'!C24*(1+15%) -> 0.3174 | D24: ='Scenario A (Y1)'!D24*(1+15%) -> 0.13225 | E24: ='Scenario A (Y1)'!E24*(1+15%) -> 0.171925 | F24: ='Scenario A (Y1)'!F24*(1+15%) -> 0.0529 | G24: ='Scenario A (Y1)'!G24*(1+15%) -> 0.066125 | J24: Input Parameter
B27: Daily Production and Distribution of Breads
A28: Shop Plant | B28: Glen Waverley | C28: Doncaster | D28: Melbourne CBD | E28: Thomastown | F28: St.Albans | G28: Hoppers Crossing | H28: Line Open (1) or Close (0) | I28: Total Daily Production | J28: Excess Capacity
A29: Mentone | B29: 791.35002 | C29: 1119.9999 | D29: 1841.85 | E29: 561.80002 | F29: 920 | G29: 765 | H29: =IF(I29>0,1,0) -> 1 | I29: =SUM(B29:G29) -> 6000 | J29: =6000-I29 -> 0
A30: Prahran | B30: 0 | C30: 0 | D30: 0 | E30: 0 | F30: 0 | G30: 0 | H30: =IF(I30>0,1,0) -> 0 | I30: =SUM(B30:G30) -> 0 | J30: =6000-I30 -> 6000
A31: Northcote | B31: 0 | C31: 0 | D31: 0 | E31: 0 | F31: 0 | G31: 0 | H31: =IF(I31>0,1,0) -> 0 | I31: =SUM(B31:G31) -> 0 | J31: =7000-I31 -> 7000
A32: Laverton North | B32: 134.39998 | C32: 134.40005 | D32: 134.40005 | E32: 134.39998 | F32: 134.39998 | G32: 489.4 | H32: =IF(I32>0,1,0) -> 1 | I32: =SUM(B32:G32) -> 1161.4 | J32: =7500-I32 -> 6338.6
A33: Total Daily Supply | B33: =SUM(B29:B32) -> 925.75 | C33: =SUM(C29:C32) -> 1254.4 | D33: =SUM(D29:D32) -> 1976.2501 | E33: =SUM(E29:E32) -> 696.2 | F33: =SUM(F29:F32) -> 1054.4 | G33: =SUM(G29:G32) -> 1254.4
A34: Unmet Demand | B34: =B14-B33 -> 0 | C34: =C14-C33 -> 0 | D34: =D14-D33 -> 183.74994 | E34: =E14-E33 -> 0 | F34: =F14-F33 -> 3.6000228 | G34: =G14-G33 -> 0
B37: Daily Production and Distribution of Pies
A38: Shop Plant | B38: Glen Waverley | C38: Doncaster | D38: Melbourne CBD | E38: Thomastown | F38: St.Albans | G38: Hoppers Crossing | H38: Line Open (1) or Close (0) | I38: Total Daily Production | J38: Excess Capacity
A39: Mentone | B39: 421.46249 | C39: 770.54253 | D39: 1332.4625 | E39: 310.18249 | F39: 487.58753 | G39: 677.76251 | H39: =IF(I39>0,1,0) -> 1 | I39: =SUM(B39:G39) -> 4000 | J39: =4000-I39 -> 0
A40: Prahran | B40: 0 | C40: 0 | D40: 0 | E40: 0 | F40: 0 | G40: 0 | H40: =IF(I40>0,1,0) -> 0 | I40: =SUM(B40:G40) -> 0 | J40: =4500-I40 -> 4500
A41: Northcote | B41: 0 | C41: 0 | D41: 0 | E41: 0 | F41: 0 | G41: 0 | H41: =IF(I41>0,1,0) -> 0 | I41: =SUM(B41:G41) -> 0 | J41: =5200-I41 -> 5200
A42: Laverton North | B42: 107.53751 | C42: 107.53747 | D42: 107.53755 | E42: 107.53751 | F42: 107.53747 | G42: 263.03749 | H42: =IF(I42>0,1,0) -> 1 | I42: =SUM(B42:G42) -> 800.725 | J42: =5500-I42 -> 4699.275
A43: Total Daily Supply | B43: =SUM(B39:B42) -> 529 | C43: =SUM(C39:C42) -> 878.08 | D43: =SUM(D39:D42) -> 1440 | E43: =SUM(E39:E42) -> 417.72 | F43: =SUM(F39:F42) -> 595.125 | G43: =SUM(G39:G42) -> 940.8
A44: Unmet Demand | B44: =B15-B43 -> 0 | C44: =C15-C43 -> 0 | D44: =D15-D43 -> 0 | E44: =E15-E43 -> 0 | F44: =F15-F43 -> 0 | G44: =G15-G43 -> 0
A47: Annual Cost
A48: Fixed Cost | B48: =(IF(I29>0,B6)+(IF(I30>0,B7)+(IF(I31>0,B8)+(IF(I32>0,B9)))))+(IF(I39>0,E6)+(IF(I40>0,E7)+(IF(I41>0,E8)+(IF(I42>0,E9))))) -> 1060000 | D48: Legend
A49: Variable Cost | B49: =(((SUM(B29:G29)*C6)+(SUM(B29:G29)*F6))+((SUM(B30:G30)*C7)+(SUM(B30:G30)*F7))+((SUM(B31:G31)*C8)+(SUM(B31:G31)*F8))+((SUM(B32:G32)*C9)+(SUM(B32:G32)*F9)))*360 -> 2020672.8 | E49: Decision Variables
A50: Transport Cost | B50: =360*(((SUMPRODUCT(B29:G29,B21:G21)+SUMPRODUCT(B39:G39,B21:G21))+((SUMPRODUCT(B30:G30,B22:G22)+SUMPRODUCT(B40:G40,B22:G22))+((SUMPRODUCT(B31:G31,B23:G23)+SUMPRODUCT(B41:G41,B23:G23))+((SUMPRODUCT(B32:G32,B24:G24)+SUMPRODUCT(B42:G42,B24:G24))))))) -> 829311.8 | E50: Constraint
A51: Total Annual Cost | B51: =SUM(B48:B50) -> 3909984.6 | E51: Cost Item

Sheet Scenario B (Y3)
B3: Plant Cost and Capacity
B4: Breads | E4: Pies
A5: Plant | B5: Annual Fixed Cost | C5: Vaiable Cost/Unit | D5: Daily Capacity | E5: Annual Fixed Cost | F5: Variable Cost/Unit | G5: Daily Capacity
A6: Mentone | B6: 200000 | C6: 0.3 | D6: 6000 | E6: 300000 | F6: 0.5 | G6: 4000
A7: Prahran | B7: 220000 | C7: 0.25 | D7: 6000 | E7: 300000 | F7: 0.45 | G7: 4500
A8: Northcote | B8: 240000 | C8: 0.25 | D8: 7000 | E8: 320000 | F8: 0.45 | G8: 5200
A9: Laverton North | B9: 240000 | C9: 0.25 | D9: 7500 | E9: 320000 | F9: 0.45 | G9: 5500
B12: Daily Demand by Product
A13: Shop | B13: Glen Waverley | C13: Doncaster | D13: Melbourne CBD | E13: Thomastown | F13: St.Albans | G13: Hoppers Crossing
A14: Breads | B14: ='Scenario A (Y2)'!B14*1.15 -> 1064.6125 | C14: ='Scenario A (Y2)'!C14*1.15 -> 1442.56 | D14: ='Scenario A (Y2)'!D14*1.15 -> 2484 | E14: ='Scenario A (Y2)'!E14*1.15 -> 800.63 | F14: ='Scenario A (Y2)'!F14*1.15 -> 1216.7 | G14: ='Scenario A (Y2)'!G14*1.15 -> 1442.56
A15: Pies | B15: ='Scenario A (Y2)'!B15*1.15 -> 608.35 | C15: ='Scenario A (Y2)'!C15*1.15 -> 1009.792 | D15: ='Scenario A (Y2)'!D15*1.15 -> 1656 | E15: ='Scenario A (Y2)'!E15*1.15 -> 480.378 | F15: ='Scenario A (Y2)'!F15*1.15 -> 684.39375 | G15: ='Scenario A (Y2)'!G15*1.15 -> 1081.92
A16: Total | B16: ='Scenario A (Y2)'!B16*1.15 -> 1672.9625 | C16: ='Scenario A (Y2)'!C16*1.15 -> 2452.352 | D16: ='Scenario A (Y2)'!D16*1.15 -> 4140 | E16: ='Scenario A (Y2)'!E16*1.15 -> 1281.008 | F16: ='Scenario A (Y2)'!F16*1.15 -> 1901.0937 | G16: ='Scenario A (Y2)'!G16*1.15 -> 2524.48
B19: Transportation Cost per Unit
A20: Shop Plant | B20: Glen Waverley | C20: Doncaster | D20: Melbourne CBD | E20: Thomastown | F20: St.Albans | G20: Hoppers Crossing
A21: Mentone | B21: ='Scenario A (Y2)'!B21*1.15 -> 0.1520875 | C21: ='Scenario A (Y2)'!C21*1.15 -> 0.182505 | D21: ='Scenario A (Y2)'!D21*1.15 -> 0.16729625 | E21: ='Scenario A (Y2)'!E21*1.15 -> 0.304175 | F21: ='Scenario A (Y2)'!F21*1.15 -> 0.3345925 | G21: ='Scenario A (Y2)'!G21*1.15 -> 0.36501
A22: Prahran | B22: ='Scenario A (Y2)'!B22*1.15 -> 0.1520875 | C22: ='Scenario A (Y2)'!C22*1.15 -> 0.182505 | D22: ='Scenario A (Y2)'!D22*1.15 -> 0.060835 | E22: ='Scenario A (Y2)'!E22*1.15 -> 0.182505 | F22: ='Scenario A (Y2)'!F22*1.15 -> 0.22813125 | G22: ='Scenario A (Y2)'!G22*1.15 -> 0.25854875
A23: Northcote | B23: ='Scenario A (Y2)'!B23*1.15 -> 0.2737575 | C23: ='Scenario A (Y2)'!C23*1.15 -> 0.24334 | D23: ='Scenario A (Y2)'!D23*1.15 -> 0.07604375 | E23: ='Scenario A (Y2)'!E23*1.15 -> 0.060835 | F23: ='Scenario A (Y2)'!F23*1.15 -> 0.1520875 | G23: ='Scenario A (Y2)'!G23*1.15 -> 0.16729625 | I23: Legend
A24: Laverton North | B24: ='Scenario A (Y2)'!B24*1.15 -> 0.3345925 | C24: ='Scenario A (Y2)'!C24*1.15 -> 0.36501 | D24: ='Scenario A (Y2)'!D24*1.15 -> 0.1520875 | E24: ='Scenario A (Y2)'!E24*1.15 -> 0.19771375 | F24: ='Scenario A (Y2)'!F24*1.15 -> 0.060835 | G24: ='Scenario A (Y2)'!G24*1.15 -> 0.07604375 | J24: Input Parameter
B27: Daily Production and Distribution of Breads
A28: Shop Plant | B28: Glen Waverley | C28: Doncaster | D28: Melbourne CBD | E28: Thomastown | F28: St.Albans | G28: Hoppers Crossing | H28: Line Open (1) or Close (0) | I28: Total Daily Production | J28: Excess Capacity
A29: Mentone | B29: 1064.6125 | C29: 1442.56 | D29: 2484 | E29: 800.63 | F29: 208.1975 | G29: 0 | H29: =IF(I29>0,1,0) -> 1 | I29: =SUM(B29:G29) -> 6000 | J29: =6000-I29 -> 0
A30: Prahran | B30: 0 | C30: 0 | D30: 0 | E30: 0 | F30: 0 | G30: 0 | H30: =IF(I30>0,1,0) -> 0 | I30: =SUM(B30:G30) -> 0 | J30: =6000-I30 -> 6000
A31: Northcote | B31: 0 | C31: 0 | D31: 0 | E31: 0 | F31: 0 | G31: 0 | H31: =IF(I31>0,1,0) -> 0 | I31: =SUM(B31:G31) -> 0 | J31: =7000-I31 -> 7000
A32: Laverton North | B32: 0 | C32: 0 | D32: 0 | E32: 0 | F32: 1008.5025 | G32: 1442.56 | H32: =IF(I32>0,1,0) -> 1 | I32: =SUM(B32:G32) -> 2451.0625 | J32: =7500-I32 -> 5048.9375
A33: Total Daily Supply | B33: =SUM(B29:B32) -> 1064.6125 | C33: =SUM(C29:C32) -> 1442.56 | D33: =SUM(D29:D32) -> 2484 | E33: =SUM(E29:E32) -> 800.63 | F33: =SUM(F29:F32) -> 1216.7 | G33: =SUM(G29:G32) -> 1442.56
A34: Unmet Demand | B34: =B14-B33 -> 0 | C34: =C14-C33 -> 0 | D34: =D14-D33 -> 0 | E34: =E14-E33 -> 0 | F34: =F14-F33 -> 0 | G34: =G14-G33 -> 0
B37: Daily Production and Distribution of Pies
A38: Shop Plant | B38: Glen Waverley | C38: Doncaster | D38: Melbourne CBD | E38: Thomastown | F38: St.Albans | G38: Hoppers Crossing | H38: Line Open (1) or Close (0) | I38: Total Daily Production | J38: Excess Capacity
A39: Mentone | B39: 608.35 | C39: 1009.792 | D39: 1656 | E39: 480.378 | F39: 245.48 | G39: 0 | H39: =IF(I39>0,1,0) -> 1 | I39: =SUM(B39:G39) -> 4000 | J39: =4000-I39 -> -8.8633669e-07
A40: Prahran | B40: 0 | C40: 0 | D40: 0 | E40: 0 | F40: 0 | G40: 0 | H40: =IF(I40>0,1,0) -> 0 | I40: =SUM(B40:G40) -> 0 | J40: =4500-I40 -> 4500
A41: Northcote | B41: 0 | C41: 0 | D41: 0 | E41: 0 | F41: 0 | G41: 0 | H41: =IF(I41>0,1,0) -> 0 | I41: =SUM(B41:G41) -> 0 | J41: =5200-I41 -> 5200
A42: Laverton North | B42: 0 | C42: 0 | D42: 0 | E42: 0 | F42: 438.91375 | G42: 1081.92 | H42: =IF(I42>0,1,0) -> 1 | I42: =SUM(B42:G42) -> 1520.8337 | J42: =5500-I42 -> 3979.1663
A43: Total Daily Supply | B43: =SUM(B39:B42) -> 608.35 | C43: =SUM(C39:C42) -> 1009.792 | D43: =SUM(D39:D42) -> 1656 | E43: =SUM(E39:E42) -> 480.378 | F43: =SUM(F39:F42) -> 684.39375 | G43: =SUM(G39:G42) -> 1081.92
A44: Unmet Demand | B44: =B15-B43 -> 0 | C44: =C15-C43 -> 0 | D44: =D15-D43 -> 0 | E44: =E15-E43 -> 0 | F44: =F15-F43 -> 0 | G44: =G15-G43 -> 0
A47: Annual Cost
A48: Fixed Cost | B48: =(IF(I29>0,B6)+(IF(I30>0,B7)+(IF(I31>0,B8)+(IF(I32>0,B9)))))+(IF(I39>0,E6)+(IF(I40>0,E7)+(IF(I41>0,E8)+(IF(I42>0,E9))))) -> 1060000 | D48: Legend
A49: Variable Cost | B49: =(((SUM(B29:G29)*C6)+(SUM(B29:G29)*F6))+((SUM(B30:G30)*C7)+(SUM(B30:G30)*F7))+((SUM(B31:G31)*C8)+(SUM(B31:G31)*F8))+((SUM(B32:G32)*C9)+(SUM(B32:G32)*F9)))*360 -> 2345667.7 | E49: Decision Variables
A50: Transport Cost | B50: =360*(((SUMPRODUCT(B29:G29,B21:G21)+SUMPRODUCT(B39:G39,B21:G21))+((SUMPRODUCT(B30:G30,B22:G22)+SUMPRODUCT(B40:G40,B22:G22))+((SUMPRODUCT(B31:G31,B23:G23)+SUMPRODUCT(B41:G41,B23:G23))+((SUMPRODUCT(B32:G32,B24:G24)+SUMPRODUCT(B42:G42,B24:G24))))))) -> 797789.47 | E50: Constraint
A51: Total Annual Cost | B51: =SUM(B48:B50) -> 4203457.2 | E51: Cost Item

Sheet Recommendation Scenario B
A1: 1) The company is recommeded to set up a new plant in Laverton North for production of both Breads and Pies besides production plant Mentone for both-Breads and Pies.
A2: 2) The optimal poduction Plan with repsect to product categories and Year wise (Year 1 to Year 3) for minimizing the annual cost will be as follows (similar to Scenario A)
A4: Year 1 | C4: Daily Production and Distribution of Breads
B5: Shop Plant | C5: Glen Waverley | D5: Doncaster | E5: Melbourne CBD | F5: Thomastown | G5: St.Albans | H5: Hoppers Crossing | I5: Total Daily Production
B6: Mentone | C6: 805 | D6: 1120 | E6: 1800 | F6: 590 | G6: 920 | H6: 765 | I6: =SUM(C6:H6) -> 6000
B7: Laverton North | C7: 0 | D7: 0 | E7: 0 | F7: 0 | G7: 0 | H7: 355 | I7: =SUM(C7:H7) -> 355
B10: Daily Production and Distribution of Pies
B11: Shop Plant | C11: Glen Waverley | D11: Doncaster | E11: Melbourne CBD | F11: Thomastown | G11: St.Albans | H11: Hoppers Crossing | I11: Total Daily Production
B12: Mentone | C12: 460 | D12: 784 | E12: 1200 | F12: 354 | G12: 517.5 | H12: 684.5 | I12: =SUM(C12:H12) -> 4000
B13: Laverton North | C13: 0 | D13: 0 | E13: 0 | F13: 0 | G13: 0 | H13: 155.5 | I13: =SUM(C13:H13) -> 155.5
A16: Year 2 | C16: Daily Production and Distribution of Breads
B17: Shop Plant | C17: Glen Waverley | D17: Doncaster | E17: Melbourne CBD | F17: Thomastown | G17: St.Albans | H17: Hoppers Crossing | I17: Total Daily Production
B18: Mentone | C18: 791.35002 | D18: 1119.9999 | E18: 1841.85 | F18: 561.80002 | G18: 920 | H18: 765 | I18: =SUM(C18:H18) -> 6000
B19: Laverton North | C19: 134.39998 | D19: 134.40005 | E19: 134.40005 | F19: 134.39998 | G19: 134.39998 | H19: 489.4 | I19: =SUM(C19:H19) -> 1161.4
B22: Daily Production and Distribution of Pies
B23: Shop Plant | C23: Glen Waverley | D23: Doncaster | E23: Melbourne CBD | F23: Thomastown | G23: St.Albans | H23: Hoppers Crossing | I23: Total Daily Production
B24: Mentone | C24: 421.46249 | D24: 770.54253 | E24: 1332.4625 | F24: 310.18249 | G24: 487.58753 | H24: 677.76251 | I24: =SUM(C24:H24) -> 4000
B25: Laverton North | C25: 107.53751 | D25: 107.53747 | E25: 107.53755 | F25: 107.53751 | G25: 107.53747 | H25: 263.03749 | I25: =SUM(C25:H25) -> 800.725
A28: Year 3 | C28: Daily Production and Distribution of Breads
B29: Shop Plant | C29: Glen Waverley | D29: Doncaster | E29: Melbourne CBD | F29: Thomastown | G29: St.Albans | H29: Hoppers Crossing | I29: Total Daily Production
B30: Mentone | C30: 1064.6125 | D30: 1442.56 | E30: 2484 | F30: 800.63 | G30: 208.1975 | H30: 0 | I30: =SUM(C30:H30) -> 6000
B31: Laverton North | C31: 0 | D31: 0 | E31: 0 | F31: 0 | G31: 1008.5025 | H31: 1442.56 | I31: =SUM(C31:H31) -> 2451.0625
B34: Daily Production and Distribution of Pies
B35: Shop Plant | C35: Glen Waverley | D35: Doncaster | E35: Melbourne CBD | F35: Thomastown | G35: St.Albans | H35: Hoppers Crossing | I35: Total Daily Production
B36: Mentone | C36: 608.35 | D36: 1009.792 | E36: 1656 | F36: 480.378 | G36: 245.48 | H36: 0 | I36: =SUM(C36:H36) -> 4000
B37: Laverton North | C37: 0 | D37: 0 | E37: 0 | F37: 0 | G37: 438.91375 | H37: 1081.92 | I37: =SUM(C37:H37) -> 1520.8337

Sheet Scenario C (Y1)
B3: Plant Cost and Capacity
B4: Breads | E4: Pies
A5: Plant | B5: Annual Fixed Cost | C5: Vaiable Cost/Unit | D5: Daily Capacity | E5: Annual Fixed Cost | F5: Variable Cost/Unit | G5: Daily Capacity
A6: Mentone | B6: 200000 | C6: 0.3 | D6: 6000 | E6: 300000 | F6: 0.5 | G6: 4000
A7: Prahran | B7: 220000 | C7: 0.25 | D7: 6000 | E7: 300000 | F7: 0.45 | G7: 4500
A8: Northcote | B8: 240000 | C8: 0.25 | D8: 7000 | E8: 320000 | F8: 0.45 | G8: 5200
A9: Laverton North | B9: 240000 | C9: 0.25 | D9: 7500 | E9: 320000 | F9: 0.45 | G9: 5500
B12: Daily Demand by Product
A13: Shop | B13: Glen Waverley | C13: Doncaster | D13: Melbourne CBD | E13: Thomastown | F13: St.Albans | G13: Hoppers Crossing
A14: Breads | B14: =700*1.15 -> 805 | C14: =1000*1.12 -> 1120 | D14: =1500*1.2 -> 1800 | E14: =500*1.18 -> 590 | F14: =800*1.15 -> 920 | G14: =1000*1.12 -> 1120
A15: Pies | B15: =400*1.15 -> 460 | C15: =700*1.12 -> 784 | D15: =1000*1.2 -> 1200 | E15: =300*1.18 -> 354 | F15: =450*1.15 -> 517.5 | G15: =750*1.12 -> 840
A16: Total | B16: =SUM(B14:B15) -> 1265 | C16: =SUM(C14:C15) -> 1904 | D16: =SUM(D14:D15) -> 3000 | E16: =SUM(E14:E15) -> 944 | F16: =SUM(F14:F15) -> 1437.5 | G16: =SUM(G14:G15) -> 1960
B19: Transportation Cost per Unit
A20: Shop Plant | B20: Glen Waverley | C20: Doncaster | D20: Melbourne CBD | E20: Thomastown | F20: St.Albans | G20: Hoppers Crossing
A21: Mentone | B21: =0.1*1.15 -> 0.115 | C21: =0.12*1.15 -> 0.138 | D21: =0.11*1.15 -> 0.1265 | E21: =0.2*1.15 -> 0.23 | F21: =0.22*1.15 -> 0.253 | G21: =0.24*1.15 -> 0.276
A22: Prahran | B22: =0.1*1.15 -> 0.115 | C22: =0.12*1.15 -> 0.138 | D22: =0.04*1.15 -> 0.046 | E22: =0.12*1.15 -> 0.138 | F22: =0.15*1.15 -> 0.1725 | G22: =0.17*1.15 -> 0.1955
A23: Northcote | B23: =0.18*1.15 -> 0.207 | C23: =0.16*1.15 -> 0.184 | D23: =0.05*1.15 -> 0.0575 | E23: =0.04*1.15 -> 0.046 | F23: =0.1*1.15 -> 0.115 | G23: =0.11*1.15 -> 0.1265 | I23: Legend
A24: Laverton North | B24: =0.22*1.15 -> 0.253 | C24: =0.24*1.15 -> 0.276 | D24: =0.1*1.15 -> 0.115 | E24: =0.13*1.15 -> 0.1495 | F24: =0.04*1.15 -> 0.046 | G24: =0.05*1.15 -> 0.0575 | J24: Input Parameter
B27: Daily Production and Distribution of Breads
A28: Shop Plant | B28: Glen Waverley | C28: Doncaster | D28: Melbourne CBD | E28: Thomastown | F28: St.Albans | G28: Hoppers Crossing | H28: Line Open (1) or Close (0) | I28: Total Daily Production | J28: Excess Capacity
A29: Mentone | B29: 805 | C29: 1120 | D29: 1800 | E29: 590 | F29: 920 | G29: 765 | H29: =IF(I29>0,1,0) -> 1 | I29: =SUM(B29:G29) -> 6000 | J29: =6000-I29 -> 0
A30: Prahran | B30: 0 | C30: 0 | D30: 0 | E30: 0 | F30: 0 | G30: 0 | H30: =IF(I30>0,1,0) -> 0 | I30: =SUM(B30:G30) -> 0 | J30: =6000-I30 -> 6000
A31: Northcote | B31: 0 | C31: 0 | D31: 0 | E31: 0 | F31: 0 | G31: 0 | H31: =IF(I31>0,1,0) -> 0 | I31: =SUM(B31:G31) -> 0 | J31: =7000-I31 -> 7000
A32: Laverton North | B32: 0 | C32: 0 | D32: 0 | E32: 0 | F32: 0 | G32: 355 | H32: =IF(I32>0,1,0) -> 1 | I32: =SUM(B32:G32) -> 355 | J32: =7500-I32 -> 7145
A33: Total Daily Supply | B33: =SUM(B29:B32) -> 805 | C33: =SUM(C29:C32) -> 1120 | D33: =SUM(D29:D32) -> 1800 | E33: =SUM(E29:E32) -> 590 | F33: =SUM(F29:F32) -> 920 | G33: =SUM(G29:G32) -> 1120
A34: Unmet Demand | B34: =B14-B33 -> -5.1233087e-08 | C34: =C14-C33 -> -3.4106051e-12 | D34: =D14-D33 -> 1.5307933e-08 | E34: =E14-E33 -> -6.5532504e-09 | F34: =F14-F33 -> 0 | G34: =G14-G33 -> 0
B37: Daily Production and Distribution of Pies
A38: Shop Plant | B38: Glen Waverley | C38: Doncaster | D38: Melbourne CBD | E38: Thomastown | F38: St.Albans | G38: Hoppers Crossing | H38: Line Open (1) or Close (0) | I38: Total Daily Production | J38: Excess Capacity
A39: Mentone | B39: 0 | C39: -1e-06 | D39: 0 | E39: 4.0000015e-06 | F39: -1e-06 | G39: -1e-06 | H39: 0 | I39: =SUM(B39:G39) -> 1.0000015e-06 | J39: =4000-I39 -> 4000
A40: Prahran | B40: 0 | C40: 0 | D40: 0 | E40: 354 | F40: 517.5 | G40: 840 | H40: =IF(I40>0,1,0) -> 1 | I40: =SUM(B40:G40) -> 1711.5 | J40: =4500-I40 -> 2788.5
A41: Northcote | B41: 460 | C41: 784 | D41: 1200 | E41: 0 | F41: 0 | G41: 3.5527137e-15 | H41: =IF(I41>0,1,0) -> 1 | I41: =SUM(B41:G41) -> 2444 | J41: =5200-I41 -> 2756
A42: Laverton North | B42: -9.9964323e-07 | C42: 2.9996449e-06 | D42: 0 | E42: -1e-06 | F42: -1e-06 | G42: 0 | H42: 0 | I42: =SUM(B42:G42) -> 1.6847019e-12 | J42: =5500-I42 -> 5500
A43: Total Daily Supply | B43: =SUM(B39:B42) -> 460 | C43: =SUM(C39:C42) -> 784 | D43: =SUM(D39:D42) -> 1200 | E43: =SUM(E39:E42) -> 354 | F43: =SUM(F39:F42) -> 517.5 | G43: =SUM(G39:G42) -> 840
A44: Unmet Demand | B44: =B15-B43 -> -1.0000002e-06 | C44: =C15-C43 -> 3.2969183e-12 | D44: =D15-D43 -> 6.7075234e-11 | E44: =E15-E43 -> 6.4233063e-12 | F44: =F15-F43 -> 0 | G44: =G15-G43 -> 0
A47: Annual Cost (Breads)
A48: Construction Cost | B48: =(IF(I30>0,1200000)+(IF(I31>0,1500000)+(IF(I32>0,1600000)))) -> 1600000
A49: Fixed Cost | B49: =(IF(I29>0,B6)+(IF(I30>0,B7)+(IF(I31>0,B8)+(IF(I32>0,B9))))) -> 440000 | D49: Legend
A50: Variable Cost | B50: =360*(((SUM(B29:G29)*C6))+((SUM(B30:G30)*C7))+((SUM(B31:G31)*C8))+((SUM(B32:G32)*C9))) -> 679950 | E50: Decision Variables
A51: Transport Cost | B51: =360*(((SUMPRODUCT(B29:G29,B21:G21)))+((SUMPRODUCT(B30:G30,B22:G22))+((SUMPRODUCT(B31:G31,B23:G23))+((SUMPRODUCT(B32:G32,B24:G24)))))) -> 386945.1 | E51: Constraint
A52: Total Annual Cost | B52: =SUM(B48:B51) -> 3106895.1 | E52: Cost Item
A54: Annual Cost (Pies)
A55: Construction Cost | B55: =(IF(I40>0,1200000)+(IF(I41>0,1500000)+(IF(I42>0,1600000)))) -> 4300000
A56: Fixed Cost | B56: =+(IF(I39>0,E6)+(IF(I40>0,E7)+(IF(I41>0,E8)+(IF(I42>0,E9))))) -> 1240000
A57: Variable Cost | B57: =360*(((SUM(B39:G39)*F6))+((SUM(B40:G40)*F7))+((SUM(B41:G41)*F8))+((SUM(B42:G42)*F9))) -> 673191
A58: Transport Cost | B58: =360*((SUMPRODUCT(B39:G39,B21:G21))+(SUMPRODUCT(B40:G40,B22:G22))+(SUMPRODUCT(B41:G41,B23:G23))+(SUMPRODUCT(B42:G42,B24:G24))) -> 219894.03
A59: Total Annual Cost | B59: =SUM(B55:B58) -> 6433085
A61: Annual Cost (Total)
A62: Construction Cost | B62: =B48+B55 -> 5900000
A63: Fixed Cost | B63: =B49+B56 -> 1680000
A64: Variable Cost | B64: =B50+B57 -> 1353141
A65: Transport Cost | B65: =B51+B58 -> 606839.13
A66: Total Annual Cost | B66: =B52+B59 -> 9539980.1

Sheet Scenario C (Y2)
B3: Plant Cost and Capacity
B4: Breads | E4: Pies
A5: Plant | B5: Annual Fixed Cost | C5: Vaiable Cost/Unit | D5: Daily Capacity | E5: Annual Fixed Cost | F5: Variable Cost/Unit | G5: Daily Capacity
A6: Mentone | B6: 200000 | C6: 0.3 | D6: 6000 | E6: 300000 | F6: 0.5 | G6: 4000
A7: Prahran | B7: 220000 | C7: 0.25 | D7: 6000 | E7: 300000 | F7: 0.45 | G7: 4500
A8: Northcote | B8: 240000 | C8: 0.25 | D8: 7000 | E8: 320000 | F8: 0.45 | G8: 5200
A9: Laverton North | B9: 240000 | C9: 0.25 | D9: 7500 | E9: 320000 | F9: 0.45 | G9: 5500
B12: Daily Demand by Product
A13: Shop | B13: Glen Waverley | C13: Doncaster | D13: Melbourne CBD | E13: Thomastown | F13: St.Albans | G13: Hoppers Crossing
A14: Breads | B14: ='Scenario A (Y1)'!B14*1.15 -> 925.75 | C14: ='Scenario A (Y1)'!C14*1.12 -> 1254.4 | D14: ='Scenario A (Y1)'!D14*1.2 -> 2160 | E14: ='Scenario A (Y1)'!E14*1.18 -> 696.2 | F14: ='Scenario A (Y1)'!F14*1.15 -> 1058 | G14: ='Scenario A (Y1)'!G14*1.12 -> 1254.4
A15: Pies | B15: ='Scenario A (Y1)'!B15*1.15 -> 529 | C15: ='Scenario A (Y1)'!C15*1.12 -> 878.08 | D15: ='Scenario A (Y1)'!D15*1.2 -> 1440 | E15: ='Scenario A (Y1)'!E15*1.18 -> 417.72 | F15: ='Scenario A (Y1)'!F15*1.15 -> 595.125 | G15: ='Scenario A (Y1)'!G15*1.12 -> 940.8
A16: Total | B16: =SUM(B14:B15) -> 1454.75 | C16: =SUM(C14:C15) -> 2132.48 | D16: =SUM(D14:D15) -> 3600 | E16: =SUM(E14:E15) -> 1113.92 | F16: =SUM(F14:F15) -> 1653.125 | G16: =SUM(G14:G15) -> 2195.2
B19: Transportation Cost per Unit
A20: Shop Plant | B20: Glen Waverley | C20: Doncaster | D20: Melbourne CBD | E20: Thomastown | F20: St.Albans | G20: Hoppers Crossing
A21: Mentone | B21: ='Scenario A (Y1)'!B21*(1+15%) -> 0.13225 | C21: ='Scenario A (Y1)'!C21*(1+15%) -> 0.1587 | D21: ='Scenario A (Y1)'!D21*(1+15%) -> 0.145475 | E21: ='Scenario A (Y1)'!E21*(1+15%) -> 0.2645 | F21: ='Scenario A (Y1)'!F21*(1+15%) -> 0.29095 | G21: ='Scenario A (Y1)'!G21*(1+15%) -> 0.3174
A22: Prahran | B22: ='Scenario A (Y1)'!B22*(1+15%) -> 0.13225 | C22: ='Scenario A (Y1)'!C22*(1+15%) -> 0.1587 | D22: ='Scenario A (Y1)'!D22*(1+15%) -> 0.0529 | E22: ='Scenario A (Y1)'!E22*(1+15%) -> 0.1587 | F22: ='Scenario A (Y1)'!F22*(1+15%) -> 0.198375 | G22: ='Scenario A (Y1)'!G22*(1+15%) -> 0.224825
A23: Northcote | B23: ='Scenario A (Y1)'!B23*(1+15%) -> 0.23805 | C23: ='Scenario A (Y1)'!C23*(1+15%) -> 0.2116 | D23: ='Scenario A (Y1)'!D23*(1+15%) -> 0.066125 | E23: ='Scenario A (Y1)'!E23*(1+15%) -> 0.0529 | F23: ='Scenario A (Y1)'!F23*(1+15%) -> 0.13225 | G23: ='Scenario A (Y1)'!G23*(1+15%) -> 0.145475 | I23: Legend
A24: Laverton North | B24: ='Scenario A (Y1)'!B24*(1+15%) -> 0.29095 | C24: ='Scenario A (Y1)'!C24*(1+15%) -> 0.3174 | D24: ='Scenario A (Y1)'!D24*(1+15%) -> 0.13225 | E24: ='Scenario A (Y1)'!E24*(1+15%) -> 0.171925 | F24: ='Scenario A (Y1)'!F24*(1+15%) -> 0.0529 | G24: ='Scenario A (Y1)'!G24*(1+15%) -> 0.066125 | J24: Input Parameter
B27: Daily Production and Distribution of Breads
A28: Shop Plant | B28: Glen Waverley | C28: Doncaster | D28: Melbourne CBD | E28: Thomastown | F28: St.Albans | G28: Hoppers Crossing | H28: Line Open (1) or Close (0) | I28: Total Daily Production | J28: Excess Capacity
A29: Mentone | B29: 0 | C29: 0 | D29: 2160 | E29: 696.2 | F29: 1058 | G29: 1254.4 | H29: =IF(I29>0,1,0) -> 1 | I29: =SUM(B29:G29) -> 5168.6 | J29: =6000-I29 -> 831.4
A30: Prahran | B30: 0 | C30: 0 | D30: 0 | E30: 0 | F30: 0 | G30: 0 | H30: =IF(I30>0,1,0) -> 0 | I30: =SUM(B30:G30) -> 0 | J30: =6000-I30 -> 6000
A31: Northcote | B31: 0 | C31: 0 | D31: 0 | E31: 0 | F31: 0 | G31: 0 | H31: =IF(I31>0,1,0) -> 0 | I31: =SUM(B31:G31) -> 0 | J31: =7000-I31 -> 7000
A32: Laverton North | B32: 925.75 | C32: 1254.4 | D32: 0 | E32: 0 | F32: 0 | G32: 0 | H32: =IF(I32>0,1,0) -> 1 | I32: =SUM(B32:G32) -> 2180.15 | J32: =7500-I32 -> 5319.85
A33: Total Daily Supply | B33: =SUM(B29:B32) -> 925.75 | C33: =SUM(C29:C32) -> 1254.4 | D33: =SUM(D29:D32) -> 2160 | E33: =SUM(E29:E32) -> 696.2 | F33: =SUM(F29:F32) -> 1058 | G33: =SUM(G29:G32) -> 1254.4
A34: Unmet Demand | B34: =B14-B33 -> 0 | C34: =C14-C33 -> 0 | D34: =D14-D33 -> 0 | E34: =E14-E33 -> 0 | F34: =F14-F33 -> 0 | G34: =G14-G33 -> 0
B37: Daily Production and Distribution of Pies
A38: Shop Plant | B38: Glen Waverley | C38: Doncaster | D38: Melbourne CBD | E38: Thomastown | F38: St.Albans | G38: Hoppers Crossing | H38: Line Open (1) or Close (0) | I38: Total Daily Production | J38: Excess Capacity
A39: Mentone | B39: 0 | C39: -1e-06 | D39: 0 | E39: 4.0000015e-06 | F39: -1e-06 | G39: -1e-06 | H39: 0 | I39: =SUM(B39:G39) -> 1.0000015e-06 | J39: =4000-I39 -> 4000
A40: Prahran | B40: 34.500003 | C40: 47.039994 | D40: 120.00001 | E40: 385.85999 | F40: 556.31251 | G40: 890.40001 | H40: 1 | I40: =SUM(B40:G40) -> 2034.1125 | J40: =4500-I40 -> 2465.8875
A41: Northcote | B41: 494.5 | C41: 831.04 | D41: 1320 | E41: 31.860004 | F41: 38.812495 | G41: 50.399995 | H41: 1 | I41: =SUM(B41:G41) -> 2766.6125 | J41: =5200-I41 -> 2433.3875
A42: Laverton North | B42: -9.9964323e-07 | C42: 2.9996449e-06 | D42: 0 | E42: -1e-06 | F42: -1e-06 | G42: 0 | H42: 0 | I42: =SUM(B42:G42) -> 1.6847019e-12 | J42: =5500-I42 -> 5500
A43: Total Daily Supply | B43: =SUM(B39:B42) -> 529 | C43: =SUM(C39:C42) -> 878.08 | D43: =SUM(D39:D42) -> 1440 | E43: =SUM(E39:E42) -> 417.72 | F43: =SUM(F39:F42) -> 595.125 | G43: =SUM(G39:G42) -> 940.8
A44: Unmet Demand | B44: =B15-B43 -> 0 | C44: =C15-C43 -> 0 | D44: =D15-D43 -> 0 | E44: =E15-E43 -> 0 | F44: =F15-F43 -> 0 | G44: =G15-G43 -> 0
A47: Annual Cost (Breads)
A48: Construction Cost | B48: =(IF(I30>0,1200000)+(IF(I31>0,1500000)+(IF(I32>0,1600000)))) -> 1600000
A49: Fixed Cost | B49: =(IF(I29>0,B6)+(IF(I30>0,B7)+(IF(I31>0,B8)+(IF(I32>0,B9))))) -> 440000 | D49: Legend
A50: Variable Cost | B50: =360*(((SUM(B29:G29)*C6))+((SUM(B30:G30)*C7))+((SUM(B31:G31)*C8))+((SUM(B32:G32)*C9))) -> 754422.3 | E50: Decision Variables
A51: Transport Cost | B51: =360*(((SUMPRODUCT(B29:G29,B21:G21)))+((SUMPRODUCT(B30:G30,B22:G22))+((SUMPRODUCT(B31:G31,B23:G23))+((SUMPRODUCT(B32:G32,B24:G24)))))) -> 673860.99 | E51: Constraint
A52: Total Annual Cost | B52: =SUM(B48:B51) -> 3468283.3 | E52: Cost Item
A54: Annual Cost (Pies)
A55: Fixed Cost | B55: =+(IF(I39>0,E6)+(IF(I40>0,E7)+(IF(I41>0,E8)+(IF(I42>0,E9))))) -> 1240000
A56: Variable Cost | B56: =360*(((SUM(B39:G39)*F6))+((SUM(B40:G40)*F7))+((SUM(B41:G41)*F8))+((SUM(B42:G42)*F9))) -> 777717.45
A57: Transport Cost | B57: =360*((SUMPRODUCT(B39:G39,B21:G21))+(SUMPRODUCT(B40:G40,B22:G22))+(SUMPRODUCT(B41:G41,B23:G23))+(SUMPRODUCT(B42:G42,B24:G24))) -> 282655.3
A58: Total Annual Cost | B58: =SUM(B55:B57) -> 2300372.7
A60: Annual Cost (Total)
A61: Fixed Cost | B61: =B49+B55 -> 1680000
A62: Variable Cost | B62: =B50+B56 -> 1532139.8
A63: Transport Cost | B63: =B51+B57 -> 956516.29
A64: Total Annual Cost | B64: =B52+B58 -> 5768656

Sheet Scenario C (Y3)
B3: Plant Cost and Capacity
B4: Breads | E4: Pies
A5: Plant | B5: Annual Fixed Cost | C5: Vaiable Cost/Unit | D5: Daily Capacity | E5: Annual Fixed Cost | F5: Variable Cost/Unit | G5: Daily Capacity
A6: Mentone | B6: 200000 | C6: 0.3 | D6: 6000 | E6: 300000 | F6: 0.5 | G6: 4000
A7: Prahran | B7: 220000 | C7: 0.25 | D7: 6000 | E7: 300000 | F7: 0.45 | G7: 4500
A8: Northcote | B8: 240000 | C8: 0.25 | D8: 7000 | E8: 320000 | F8: 0.45 | G8: 5200
A9: Laverton North | B9: 240000 | C9: 0.25 | D9: 7500 | E9: 320000 | F9: 0.45 | G9: 5500
B12: Daily Demand by Product
A13: Shop | B13: Glen Waverley | C13: Doncaster | D13: Melbourne CBD | E13: Thomastown | F13: St.Albans | G13: Hoppers Crossing
A14: Breads | B14: ='Scenario A (Y2)'!B14*1.15 -> 1064.6125 | C14: ='Scenario A (Y2)'!C14*1.15 -> 1442.56 | D14: ='Scenario A (Y2)'!D14*1.15 -> 2484 | E14: ='Scenario A (Y2)'!E14*1.15 -> 800.63 | F14: ='Scenario A (Y2)'!F14*1.15 -> 1216.7 | G14: ='Scenario A (Y2)'!G14*1.15 -> 1442.56
A15: Pies | B15: ='Scenario A (Y2)'!B15*1.15 -> 608.35 | C15: ='Scenario A (Y2)'!C15*1.15 -> 1009.792 | D15: ='Scenario A (Y2)'!D15*1.15 -> 1656 | E15: ='Scenario A (Y2)'!E15*1.15 -> 480.378 | F15: ='Scenario A (Y2)'!F15*1.15 -> 684.39375 | G15: ='Scenario A (Y2)'!G15*1.15 -> 1081.92
A16: Total | B16: ='Scenario A (Y2)'!B16*1.15 -> 1672.9625 | C16: ='Scenario A (Y2)'!C16*1.15 -> 2452.352 | D16: ='Scenario A (Y2)'!D16*1.15 -> 4140 | E16: ='Scenario A (Y2)'!E16*1.15 -> 1281.008 | F16: ='Scenario A (Y2)'!F16*1.15 -> 1901.0937 | G16: ='Scenario A (Y2)'!G16*1.15 -> 2524.48
B19: Transportation Cost per Unit
A20: Shop Plant | B20: Glen Waverley | C20: Doncaster | D20: Melbourne CBD | E20: Thomastown | F20: St.Albans | G20: Hoppers Crossing
A21: Mentone | B21: ='Scenario A (Y2)'!B21*1.15 -> 0.1520875 | C21: ='Scenario A (Y2)'!C21*1.15 -> 0.182505 | D21: ='Scenario A (Y2)'!D21*1.15 -> 0.16729625 | E21: ='Scenario A (Y2)'!E21*1.15 -> 0.304175 | F21: ='Scenario A (Y2)'!F21*1.15 -> 0.3345925 | G21: ='Scenario A (Y2)'!G21*1.15 -> 0.36501
A22: Prahran | B22: ='Scenario A (Y2)'!B22*1.15 -> 0.1520875 | C22: ='Scenario A (Y2)'!C22*1.15 -> 0.182505 | D22: ='Scenario A (Y2)'!D22*1.15 -> 0.060835 | E22: ='Scenario A (Y2)'!E22*1.15 -> 0.182505 | F22: ='Scenario A (Y2)'!F22*1.15 -> 0.22813125 | G22: ='Scenario A (Y2)'!G22*1.15 -> 0.25854875
A23: Northcote | B23: ='Scenario A (Y2)'!B23*1.15 -> 0.2737575 | C23: ='Scenario A (Y2)'!C23*1.15 -> 0.24334 | D23: ='Scenario A (Y2)'!D23*1.15 -> 0.07604375 | E23: ='Scenario A (Y2)'!E23*1.15 -> 0.060835 | F23: ='Scenario A (Y2)'!F23*1.15 -> 0.1520875 | G23: ='Scenario A (Y2)'!G23*1.15 -> 0.16729625 | I23: Legend
A24: Laverton North | B24: ='Scenario A (Y2)'!B24*1.15 -> 0.3345925 | C24: ='Scenario A (Y2)'!C24*1.15 -> 0.36501 | D24: ='Scenario A (Y2)'!D24*1.15 -> 0.1520875 | E24: ='Scenario A (Y2)'!E24*1.15 -> 0.19771375 | F24: ='Scenario A (Y2)'!F24*1.15 -> 0.060835 | G24: ='Scenario A (Y2)'!G24*1.15 -> 0.07604375 | J24: Input Parameter
B27: Daily Production and Distribution of Breads
A28: Shop Plant | B28: Glen Waverley | C28: Doncaster | D28: Melbourne CBD | E28: Thomastown | F28: St.Albans | G28: Hoppers Crossing | H28: Line Open (1) or Close (0) | I28: Total Daily Production | J28: Excess Capacity
A29: Mentone | B29: 934.80627 | C29: 1281.28 | D29: 2142 | E29: 695.31502 | F29: 1068.35 | G29: 926.28 | H29: 1 | I29: =SUM(B29:G29) -> 7048.0312 | J29: =6000-I29 -> -1048.0312
A30: Prahran | B30: 0 | C30: 0 | D30: 0 | E30: 0 | F30: 0 | G30: 0 | H30: 0 | I30: =SUM(B30:G30) -> 0 | J30: =6000-I30 -> 6000
A31: Northcote | B31: 0 | C31: 0 | D31: 0 | E31: 0 | F31: 0 | G31: 0 | H31: 0 | I31: =SUM(B31:G31) -> 0 | J31: =7000-I31 -> 7000
A32: Laverton North | B32: 129.80623 | C32: 161.28004 | D32: 342.00004 | E32: 105.31498 | F32: 148.34998 | G32: 516.28 | H32: 1 | I32: =SUM(B32:G32) -> 1403.0313 | J32: =7500-I32 -> 6096.9687
A33: Total Daily Supply | B33: =SUM(B29:B32) -> 1064.6125 | C33: =SUM(C29:C32) -> 1442.56 | D33: =SUM(D29:D32) -> 2484 | E33: =SUM(E29:E32) -> 800.63 | F33: =SUM(F29:F32) -> 1216.7 | G33: =SUM(G29:G32) -> 1442.56
A34: Unmet Demand | B34: =B14-B33 -> 0 | C34: =C14-C33 -> 0 | D34: =D14-D33 -> 0 | E34: =E14-E33 -> 0 | F34: =F14-F33 -> 0 | G34: =G14-G33 -> 0
B37: Daily Production and Distribution of Pies
A38: Shop Plant | B38: Glen Waverley | C38: Doncaster | D38: Melbourne CBD | E38: Thomastown | F38: St.Albans | G38: Hoppers Crossing | H38: Line Open (1) or Close (0) | I38: Total Daily Production | J38: Excess Capacity
A39: Mentone | B39: 0 | C39: -1e-06 | D39: 0 | E39: 4.0000015e-06 | F39: -1e-06 | G39: -1e-06 | H39: 0 | I39: =SUM(B39:G39) -> 1.0000015e-06 | J39: =4000-I39 -> 4000
A40: Prahran | B40: 74.175007 | C40: 112.89599 | D40: 228.00003 | E40: 417.18899 | F40: 600.94689 | G40: 960.96001 | H40: 1 | I40: =SUM(B40:G40) -> 2394.1669 | J40: =4500-I40 -> 2105.8331
A41: Northcote | B41: 534.17499 | C41: 896.89601 | D41: 1428 | E41: 63.189008 | F41: 83.446864 | G41: 120.95999 | H41: 1 | I41: =SUM(B41:G41) -> 3126.6668 | J41: =5200-I41 -> 2073.3332
A42: Laverton North | B42: -9.9964323e-07 | C42: 2.9996449e-06 | D42: 0 | E42: -1e-06 | F42: -1e-06 | G42: 0 | H42: 0 | I42: =SUM(B42:G42) -> 1.6847019e-12 | J42: =5500-I42 -> 5500
A43: Total Daily Supply | B43: =SUM(B39:B42) -> 608.35 | C43: =SUM(C39:C42) -> 1009.792 | D43: =SUM(D39:D42) -> 1656 | E43: =SUM(E39:E42) -> 480.378 | F43: =SUM(F39:F42) -> 684.39375 | G43: =SUM(G39:G42) -> 1081.92
A44: Unmet Demand | B44: =B15-B43 -> 0 | C44: =C15-C43 -> 0 | D44: =D15-D43 -> 0 | E44: =E15-E43 -> 0 | F44: =F15-F43 -> 0 | G44: =G15-G43 -> 0
A47: Annual Cost (Breads)
A48: Construction Cost | B48: =(IF(I30>0,1200000)+(IF(I31>0,1500000)+(IF(I32>0,1600000)))) -> 1600000
A49: Fixed Cost | B49: =(IF(I29>0,B6)+(IF(I30>0,B7)+(IF(I31>0,B8)+(IF(I32>0,B9))))) -> 440000 | D49: Legend
A50: Variable Cost | B50: =360*(((SUM(B29:G29)*C6))+((SUM(B30:G30)*C7))+((SUM(B31:G31)*C8))+((SUM(B32:G32)*C9))) -> 887460.19 | E50: Decision Variables
A51: Transport Cost | B51: =360*(((SUMPRODUCT(B29:G29,B21:G21)))+((SUMPRODUCT(B30:G30,B22:G22))+((SUMPRODUCT(B31:G31,B23:G23))+((SUMPRODUCT(B32:G32,B24:G24)))))) -> 671343.71 | E51: Constraint
A52: Total Annual Cost | B52: =SUM(B48:B51) -> 3598803.9 | E52: Cost Item
A54: Annual Cost (Pies)
A55: Fixed Cost | B55: =+(IF(I39>0,E6)+(IF(I40>0,E7)+(IF(I41>0,E8)+(IF(I42>0,E9))))) -> 1240000
A56: Variable Cost | B56: =360*(((SUM(B39:G39)*F6))+((SUM(B40:G40)*F7))+((SUM(B41:G41)*F8))+((SUM(B42:G42)*F9))) -> 894375.07
A57: Transport Cost | B57: =360*((SUMPRODUCT(B39:G39,B21:G21))+(SUMPRODUCT(B40:G40,B22:G22))+(SUMPRODUCT(B41:G41,B23:G23))+(SUMPRODUCT(B42:G42,B24:G24))) -> 366224.92
A58: Total Annual Cost | B58: =SUM(B55:B57) -> 2500600
A60: Annual Cost (Total)
A61: Fixed Cost | B61: =B49+B55 -> 1680000
A62: Variable Cost | B62: =B50+B56 -> 1781835.3
A63: Transport Cost | B63: =B51+B57 -> 1037568.6
A64: Total Annual Cost | B64: =B52+B58 -> 6099403.9

Sheet Recommendation Scenario C
A1: 1) The company is recommeded to set up a new plant in Laverton North for production of Pies besides production plant Mentone for Breads . A production plan for Pies will be set up in Prahran and Northcote.
A2: 2) The optimal poduction Plan with repsect to product categories and Year wise (Year 1 to Year 3) for minimizing the annual cost will be as follows (similar to Scenario A)
A4: Year 1 | C4: Daily Production and Distribution of Breads
B5: Shop Plant | C5: Glen Waverley | D5: Doncaster | E5: Melbourne CBD | F5: Thomastown | G5: St.Albans | H5: Hoppers Crossing | I5: Total Daily Production
B6: Mentone | C6: 805 | D6: 1120 | E6: 1800 | F6: 590 | G6: 920 | H6: 765 | I6: =SUM(C6:H6) -> 6000
B7: Laverton North | C7: 0 | D7: 0 | E7: 0 | F7: 0 | G7: 0 | H7: 355 | I7: =SUM(C7:H7) -> 355
B10: Daily Production and Distribution of Pies
B11: Shop Plant | C11: Glen Waverley | D11: Doncaster | E11: Melbourne CBD | F11: Thomastown | G11: St.Albans | H11: Hoppers Crossing | I11: Total Daily Production
B12: Prahran | C12: 0 | D12: 0 | E12: 0 | F12: 354 | G12: 517.5 | H12: 840 | I12: =SUM(C12:H12) -> 1711.5
B13: Northcote | C13: 460 | D13: 784 | E13: 1200 | F13: 0 | G13: 0 | H13: 3.5527137e-15 | I13: =SUM(C13:H13) -> 2444
A16: Year 2 | C16: Daily Production and Distribution of Breads
B17: Shop Plant | C17: Glen Waverley | D17: Doncaster | E17: Melbourne CBD | F17: Thomastown | G17: St.Albans | H17: Hoppers Crossing | I17: Total Daily Production
B18: Mentone | C18: 0 | D18: 0 | E18: 2160 | F18: 696.2 | G18: 1058 | H18: 1254.4 | I18: =SUM(C18:H18) -> 5168.6
B19: Laverton North | C19: 925.75 | D19: 1254.4 | E19: 0 | F19: 0 | G19: 0 | H19: 0 | I19: =SUM(C19:H19) -> 2180.15
B22: Daily Production and Distribution of Pies
B23: Shop Plant | C23: Glen Waverley | D23: Doncaster | E23: Melbourne CBD | F23: Thomastown | G23: St.Albans | H23: Hoppers Crossing | I23: Total Daily Production
B24: Prahran | C24: 34.500003 | D24: 47.039994 | E24: 120.00001 | F24: 385.85999 | G24: 556.31251 | H24: 890.40001 | I24: =SUM(C24:H24) -> 2034.1125
B25: Northcote | C25: 494.5 | D25: 831.04 | E25: 1320 | F25: 31.860004 | G25: 38.812495 | H25: 50.399995 | I25: =SUM(C25:H25) -> 2766.6125
A28: Year 3 | C28: Daily Production and Distribution of Breads
B29: Shop Plant | C29: Glen Waverley | D29: Doncaster | E29: Melbourne CBD | F29: Thomastown | G29: St.Albans | H29: Hoppers Crossing | I29: Total Daily Production
B30: Mentone | C30: 934.80627 | D30: 1281.28 | E30: 2142 | F30: 695.31502 | G30: 1068.35 | H30: 926.28 | I30: =SUM(C30:H30) -> 7048.0312
B31: Laverton North | C31: 129.80623 | D31: 161.28004 | E31: 342.00004 | F31: 105.31498 | G31: 148.34998 | H31: 516.28 | I31: =SUM(C31:H31) -> 1403.0313
B34: Daily Production and Distribution of Pies
B35: Shop Plant | C35: Glen Waverley | D35: Doncaster | E35: Melbourne CBD | F35: Thomastown | G35: St.Albans | H35: Hoppers Crossing | I35: Total Daily Production
B36: Prahran | C36: 74.175007 | D36: 112.89599 | E36: 228.00003 | F36: 417.18899 | G36: 600.94689 | H36: 960.96001 | I36: =SUM(C36:H36) -> 2394.1669
B37: Northcote | C37: 534.17499 | D37: 896.89601 | E37: 1428 | F37: 63.189008 | G37: 83.446864 | H37: 120.95999 | I37: =SUM(C37:H37) -> 3126.6668

Sheet Action Plan
A1: If the market demand is astabilzed at the end of Year 3, given considertaion of machine construction cost, and scrape value, the appropriate action plan of the company will be to to set up a new plant in Laverton North for production of both Breads and Pies besides production plant Mentone for both-Breads and Pies. Relocating to production plan to other will be not be optimal for the company. The cost saving in the existing plant will exceed the salvage value recovered if production and distrubution plan is relocated to other areas.
A4: Thus after 3 years the optimal production plan of the company will be as follows.
A6: Year 3 | C6: Daily Production and Distribution of Breads
B7: Shop Plant | C7: Glen Waverley | D7: Doncaster | E7: Melbourne CBD | F7: Thomastown | G7: St.Albans | H7: Hoppers Crossing | I7: Total Daily Production
B8: Mentone | C8: 1064.6125 | D8: 1442.56 | E8: 2484 | F8: 800.63 | G8: 208.1975 | H8: 0 | I8: =SUM(C8:H8) -> 6000
B9: Laverton North | C9: 0 | D9: 0 | E9: 0 | F9: 0 | G9: 1008.5025 | H9: 1442.56 | I9: =SUM(C9:H9) -> 2451.0625
B12: Daily Production and Distribution of Pies
B13: Shop Plant | C13: Glen Waverley | D13: Doncaster | E13: Melbourne CBD | F13: Thomastown | G13: St.Albans | H13: Hoppers Crossing | I13: Total Daily Production
B14: Mentone | C14: 608.35 | D14: 1009.792 | E14: 1656 | F14: 480.378 | G14: 245.48 | H14: 0 | I14: =SUM(C14:H14) -> 4000
B15: Laverton North | C15: 0 | D15: 0 | E15: 0 | F15: 0 | G15: 438.91375 | H15: 1081.92 | I15: =SUM(C15:H15) -> 1520.8337
