Workbook

Sheet WORKINGS
B2: BANCO COMMUNITY COLLEGE
B3: 31ST DECEMBER 2020
A8: Stationery Stock
A11: Closing value | C11: 200500 | E11: Net realizable value | G11: 155254
E13: Loss | G13: =+C11-G11 -> 45246
C14: =SUM(C11:C13) -> 200500 | G14: =SUM(G11:G13) -> 200500
C19: Consultancy Cost
A21: Accounts payable | C21: 234500 | E21: PL | G21: 234500
C24: =SUM(C21:C23) -> 234500 | G24: =SUM(G21:G23) -> 234500
C30: Books and Research allowance
A32: Pl | C32: =+G32 -> 337530 | E32: Bank | G32: 337530
C35: =SUM(C32:C34) -> 337530 | G35: =SUM(G32:G34) -> 337530
C42: Interest on loans
A44: Interest Payable | C44: =0.2*8600 -> 1720 | E44: Pl | G44: =+C44 -> 1720
C47: =SUM(C44:C46) -> 1720 | G47: =SUM(G44:G46) -> 1720
A52: Accounts receivables school fees | E52: =0.6*468050 -> 280830
A54: Provision for doubtful debts | E54: =0.05*E52 -> 14041.5
D56: Bad debts
A58: Provision for bad debts | D58: =+E54 -> 14041.5 | F58: PL | G58: =+D58 -> 14041.5
A64: Depreciation
C65: Cost | D65: Life | E65: Depreciation
A66: Plant and Machinery | C66: 3000000 | D66: 8 | E66: =+C66/D66 -> 375000
A67: Motor Vehicle | C67: 2505000 | D67: 5 | E67: =+C67/D67 -> 501000
A68: Building | C68: 12300000 | D68: 50 | E68: =+C68/D68 -> 246000
A69: Software | C69: 995500 | D69: 7 | E69: =+C69/D69 -> 142214.29
E70: =SUM(E66:E69) -> 1264214.3

Sheet ANSWER
A2: QUESTION 1
B4: BANCO COMMUNITY COLLEGE
B5: STATEMENT OF FINANCIAL PERFORMANCE
B6: FOR THE YEAR ENDED
B7: 31ST DECEMBER 2019
A10: OPERATING REVENUES | C10: $000
A11: Fees Income | C11: 4575622
A12: Allowance | C12: -856670
C13: =SUM(C11:C12) -> 3718952
A14: Independent consultancy fees | C14: 655600
A15: CARICOM Grant | C15: 1540000
A16: Sponsorship received | C16: 9066828
A17: Books and Research Allowance | C17: =+WORKINGS!C32 -> 337530
A18: Proceeds from Sale of Admission Forms | C18: 9196270
A19: Total Operating Revenues | C19: =SUM(C13:C18) -> 24515180
A22: Operating expenses
A23: Sponsorship rgranted | C23: 8100
A24: Books and Research Allowance | C24: =150765 -> 150765
A25: Permanent Post | C25: 5312430
A26: Legal Cost | C26: 25059
A27: Consultancy Cost | C27: =565500+WORKINGS!G21 -> 800000
A28: Non-Permanent Post | C28: 1253600
A29: Seminars cost | C29: 500000
A30: Project Work Supervisory Allowance | C30: 48500
A31: Training and Workshop cost | C31: 104000
A32: Other Expenses | C32: 71000
A33: Utilities Bills | C33: 560053
A34: Superannuation | C34: 278500
A35: End of Service Benefits | C35: 298040
A36: Stationery | C36: 198665
A37: Change in stationery value | C37: =+WORKINGS!G13 -> 45246
A38: Bad Debts epense | C38: =+WORKINGS!G58 -> 14041.5
A39: Depreciation | C39: =+WORKINGS!E70 -> 1264214.3
A40: Interest on loan | C40: =+WORKINGS!G44 -> 1720
A41: Social Benefits | C41: 1720
A42: Total Operating Epenses | C42: =SUM(C23:C41) -> 10935654
A44: Operating income | C44: =+C19-C42 -> 13579526
A47: QUESTION 2
A48: Objectives of general purpose financial statements
A50: To provide information about the financial performance of an entity,this is through an analysis of revenues and costs.
...
